BEGIN:VCALENDAR
VERSION:2.0
PRODID:-//Volucap - ECPv6.15.20//NONSGML v1.0//EN
CALSCALE:GREGORIAN
METHOD:PUBLISH
X-ORIGINAL-URL:https://volucap.com
X-WR-CALDESC:Events for Volucap
REFRESH-INTERVAL;VALUE=DURATION:PT1H
X-Robots-Tag:noindex
X-PUBLISHED-TTL:PT1H
BEGIN:VTIMEZONE
TZID:UTC
BEGIN:STANDARD
TZOFFSETFROM:+0000
TZOFFSETTO:+0000
TZNAME:UTC
DTSTART:20180101T000000
END:STANDARD
END:VTIMEZONE
BEGIN:VEVENT
DTSTART;VALUE=DATE:20190502
DTEND;VALUE=DATE:20190504
DTSTAMP:20260423T140831
CREATED:20190301T122957Z
LAST-MODIFIED:20210810T093913Z
UID:1171-1556755200-1556927999@volucap.com
SUMMARY:The World Tourism Forum Lucerne
DESCRIPTION:The World Tourism Forum Lucerne is the only tourism platform where international top-level decision makers from industry\, government\, academia and finance collaborate on future challenges together with tomorrow’s generation. \nFounded in 2008\, the Forum has developed continuously and has built up a worldwide network of personal relationships. We cordially invite you to join this exceptional platform with a focus on an open-minded and future-oriented exchange across industries and generations. (Source\, 01.03.2018)
URL:https://volucap.com/event/1171/
LOCATION:World Tourism Forum Lucerne\, Zentralstrasse 9\, Lucerne\, 6002\, Switzerland
ATTACH;FMTTYPE=image/png:https://volucap.com/wp-content/uploads/2023/09/The-World-Tourism-Forum-Lucerne-Logo.png
ORGANIZER;CN="World Tourism Forum Luzern":MAILTO:info@wtflucerne.org
END:VEVENT
END:VCALENDAR