BEGIN:VCALENDAR
VERSION:2.0
PRODID:-//Volucap - ECPv6.15.20//NONSGML v1.0//EN
CALSCALE:GREGORIAN
METHOD:PUBLISH
X-ORIGINAL-URL:https://volucap.com
X-WR-CALDESC:Events for Volucap
REFRESH-INTERVAL;VALUE=DURATION:PT1H
X-Robots-Tag:noindex
X-PUBLISHED-TTL:PT1H
BEGIN:VTIMEZONE
TZID:UTC
BEGIN:STANDARD
TZOFFSETFROM:+0000
TZOFFSETTO:+0000
TZNAME:UTC
DTSTART:20180101T000000
END:STANDARD
END:VTIMEZONE
BEGIN:VEVENT
DTSTART;TZID=UTC:20190612T183000
DTEND;TZID=UTC:20190612T220000
DTSTAMP:20260423T122940
CREATED:20190606T085708Z
LAST-MODIFIED:20210810T093911Z
UID:1214-1560364200-1560376800@volucap.com
SUMMARY:medientreff 2019
DESCRIPTION:On June 12\, the media and digital industries will meet in the heart of the MediaTech Hub Potsdam and media.connect brandenburg invites you! The medientreff offers actors\, decision-makers and multipliers of the media locations of Brandenburg and Berlin a special kind of networking evening. At the media meeting you will have the opportunity to make new business contacts and cultivate existing contacts. \nThe Volucap will open its doors to the media meeting and offer tours of the volumetric studio
URL:https://volucap.com/event/medientreff-2019/
LOCATION:fx.Center Babelsberg\, fx.center\, Quentin-Tarantino-Straße\, Potsdam\, Potsdam\, 14482\, Germany
CATEGORIES:Conference
ATTACH;FMTTYPE=image/png:https://volucap.com/wp-content/uploads/2023/09/Medientreff19-1.png
ORGANIZER;CN="media%3Anet":MAILTO:nadine.pahl@medianet-bb.de
END:VEVENT
END:VCALENDAR