BEGIN:VCALENDAR
VERSION:2.0
PRODID:-//Volucap - ECPv6.15.20//NONSGML v1.0//EN
CALSCALE:GREGORIAN
METHOD:PUBLISH
X-ORIGINAL-URL:https://volucap.com
X-WR-CALDESC:Events for Volucap
REFRESH-INTERVAL;VALUE=DURATION:PT1H
X-Robots-Tag:noindex
X-PUBLISHED-TTL:PT1H
BEGIN:VTIMEZONE
TZID:Europe/Paris
BEGIN:DAYLIGHT
TZOFFSETFROM:+0100
TZOFFSETTO:+0200
TZNAME:CEST
DTSTART:20180325T010000
END:DAYLIGHT
BEGIN:STANDARD
TZOFFSETFROM:+0200
TZOFFSETTO:+0100
TZNAME:CET
DTSTART:20181028T010000
END:STANDARD
BEGIN:DAYLIGHT
TZOFFSETFROM:+0100
TZOFFSETTO:+0200
TZNAME:CEST
DTSTART:20190331T010000
END:DAYLIGHT
BEGIN:STANDARD
TZOFFSETFROM:+0200
TZOFFSETTO:+0100
TZNAME:CET
DTSTART:20191027T010000
END:STANDARD
BEGIN:DAYLIGHT
TZOFFSETFROM:+0100
TZOFFSETTO:+0200
TZNAME:CEST
DTSTART:20200329T010000
END:DAYLIGHT
BEGIN:STANDARD
TZOFFSETFROM:+0200
TZOFFSETTO:+0100
TZNAME:CET
DTSTART:20201025T010000
END:STANDARD
END:VTIMEZONE
BEGIN:VEVENT
DTSTART;TZID=Europe/Paris:20190703T080000
DTEND;TZID=Europe/Paris:20190704T170000
DTSTAMP:20260423T110047
CREATED:20190503T085955Z
LAST-MODIFIED:20210810T093912Z
UID:1202-1562140800-1562259600@volucap.com
SUMMARY:XR Expo - Stuttgart
DESCRIPTION:It’s that time again: on the 3rd and 4th of July 2019\, the XR Expo will take place in the Wagenhallen in Stuttgart. The tech event enters the third round and shows B2B applications in the areas of virtual\, mixed and augmented reality. Renowned exhibitors\, speakers and trade visitors can be expected again this year. \nThe XR Expo is the event that brings together the XR community of professionals and industry. It provides a unique platform for users to interact with service providers and technology providers for professional XR applications.
URL:https://volucap.com/event/xr-expo-stuttgart/
LOCATION:Wagenhallen – Stuttgart\, Innerer Nordbahnhof 1\, Stuttgart\, Baden-Württemberg\, 70191\, Germany
ATTACH;FMTTYPE=image/jpeg:https://volucap.com/wp-content/uploads/2023/09/keyvisual-xr-expo-2019.jpg
ORGANIZER;CN="Ligthshape GmbH & Co.KG":MAILTO:contact@lightshape.net
END:VEVENT
END:VCALENDAR