BEGIN:VCALENDAR
VERSION:2.0
PRODID:-//Volucap - ECPv6.15.20//NONSGML v1.0//EN
CALSCALE:GREGORIAN
METHOD:PUBLISH
X-WR-CALNAME:Volucap
X-ORIGINAL-URL:https://volucap.com
X-WR-CALDESC:Events for Volucap
REFRESH-INTERVAL;VALUE=DURATION:PT1H
X-Robots-Tag:noindex
X-PUBLISHED-TTL:PT1H
BEGIN:VTIMEZONE
TZID:UTC
BEGIN:STANDARD
TZOFFSETFROM:+0000
TZOFFSETTO:+0000
TZNAME:UTC
DTSTART:20180101T000000
END:STANDARD
END:VTIMEZONE
BEGIN:VEVENT
DTSTART;VALUE=DATE:20190728
DTEND;VALUE=DATE:20190802
DTSTAMP:20260423T093015
CREATED:20190626T065343Z
LAST-MODIFIED:20210810T093911Z
UID:1243-1564272000-1564703999@volucap.com
SUMMARY:Siggraph Conference
DESCRIPTION:SIGGRAPH is the world’s largest conference on computer graphics. It takes place once a year in a city somewhere in the U.S. or Canada\, and is attended by tens of thousands of computer graphics professionals. SIGGRAPH is one of the most highly respected venues for the presentation of new computer graphics technology and research. \nSince 2008\, ACM SIGGRAPH has also convened an annual conference in Asia\, called SIGGRAPH Asia\, which is attended by thousands of computer graphics professionals from all over the world. Siggraph Program overview \nVolucap will presenting at the Siggraph in L.A. this year.
URL:https://volucap.com/event/siggraph-conference/
LOCATION:Los Angeles Convention Center
CATEGORIES:Conference
ATTACH;FMTTYPE=image/jpeg:https://volucap.com/wp-content/uploads/2023/09/org.blend_.centered.400.jpg
ORGANIZER;CN="ACM SIGGRAPH":MAILTO:acmsighelp@electionservicescorp.com.
END:VEVENT
END:VCALENDAR