BEGIN:VCALENDAR
VERSION:2.0
PRODID:-//Volucap - ECPv6.15.20//NONSGML v1.0//EN
CALSCALE:GREGORIAN
METHOD:PUBLISH
X-ORIGINAL-URL:https://volucap.com
X-WR-CALDESC:Events for Volucap
REFRESH-INTERVAL;VALUE=DURATION:PT1H
X-Robots-Tag:noindex
X-PUBLISHED-TTL:PT1H
BEGIN:VTIMEZONE
TZID:Europe/Berlin
BEGIN:DAYLIGHT
TZOFFSETFROM:+0100
TZOFFSETTO:+0200
TZNAME:CEST
DTSTART:20180325T010000
END:DAYLIGHT
BEGIN:STANDARD
TZOFFSETFROM:+0200
TZOFFSETTO:+0100
TZNAME:CET
DTSTART:20181028T010000
END:STANDARD
BEGIN:DAYLIGHT
TZOFFSETFROM:+0100
TZOFFSETTO:+0200
TZNAME:CEST
DTSTART:20190331T010000
END:DAYLIGHT
BEGIN:STANDARD
TZOFFSETFROM:+0200
TZOFFSETTO:+0100
TZNAME:CET
DTSTART:20191027T010000
END:STANDARD
BEGIN:DAYLIGHT
TZOFFSETFROM:+0100
TZOFFSETTO:+0200
TZNAME:CEST
DTSTART:20200329T010000
END:DAYLIGHT
BEGIN:STANDARD
TZOFFSETFROM:+0200
TZOFFSETTO:+0100
TZNAME:CET
DTSTART:20201025T010000
END:STANDARD
END:VTIMEZONE
BEGIN:VTIMEZONE
TZID:UTC
BEGIN:STANDARD
TZOFFSETFROM:+0000
TZOFFSETTO:+0000
TZNAME:UTC
DTSTART:20180101T000000
END:STANDARD
END:VTIMEZONE
BEGIN:VEVENT
DTSTART;VALUE=DATE:20190906
DTEND;VALUE=DATE:20190912
DTSTAMP:20260423T081228
CREATED:20190626T062807Z
LAST-MODIFIED:20210810T093911Z
UID:1230-1567728000-1568246399@volucap.com
SUMMARY:IFA Berlin 2019
DESCRIPTION:IFA is the world’s leading trade show for consumer electronics and home appliances. \nWith more than 1\,000 exhibitors\, the world’s largest trade fair for consumer electronics and home appliances not only offers many services for the professional audience\, but also organizes numerous programs and events for the electronics end user. Almost all major electronics companies are present there for six days. In addition to camera manufacturers\, providers of the strong growth segments TV\, notebooks\, navigation devices and new Internet offerings are expected. \nLocation and Floor plans \nVolucap will present several showcases this year at the IFA
URL:https://volucap.com/event/ifa-berlin-2019/
LOCATION:Messe Berlin\, Messegelände Berlin ExpoCenter City\, Messedamm 22\, Berlin\, Berlin\, 14055\, Germany
CATEGORIES:Conference,Expo
ATTACH;FMTTYPE=image/png:https://volucap.com/wp-content/uploads/2023/09/IFA_Logo_2019_datum_SEP_Versalien_eng.png
ORGANIZER;CN="Messe Berlin GmbH":MAILTO:ifa@messe-berlin.de
END:VEVENT
BEGIN:VEVENT
DTSTART;VALUE=DATE:20190911
DTEND;VALUE=DATE:20190913
DTSTAMP:20260423T081228
CREATED:20190626T055922Z
LAST-MODIFIED:20221111T090649Z
UID:1221-1568160000-1568332799@volucap.com
SUMMARY:dmexco 2019 - Unseen Reality
DESCRIPTION:Unseen Reality – How Technology Enhancement in Quality and Design Will Change the way we Think of Brands \n\n\n\n\n\n\nWednesday\, 11 September 2019\n14:55 – 15:25\n\nExperience Stage\n\n\n\n\n\n\nBrands are increasingly utilizing AR and VR to make an impact. More and more people transfer themselves into alternative worlds or use these technologies as an aid for daily business. Still\, there are limits to fully embracing these experiences. This session will discuss the challenges to developers\, designers\, brands and even consumers.\n\n\n\nDMEXCO is the meeting place for key players in digital business\, marketing and innovation. \nDMEXCO is the meeting place and a community for key players in digital business\, marketing\, and innovation. They bring together industry leaders\, marketing and media professionals\, and tech pioneers to set the digital agenda. \nSven Bliedung  will be presenting at Dmexco this year.
URL:https://volucap.com/event/dmexco/
LOCATION:Koelnmesse GmbH\, Messeplatz 1\, Cologne\, Germany
CATEGORIES:Conference,Expo
ATTACH;FMTTYPE=image/jpeg:https://volucap.com/wp-content/uploads/2023/09/dmexco-1-1.jpg
ORGANIZER;CN="koelnmesse":MAILTO:info@koelnmesse.de
END:VEVENT
END:VCALENDAR