BEGIN:VCALENDAR
VERSION:2.0
PRODID:-//Volucap - ECPv6.15.20//NONSGML v1.0//EN
CALSCALE:GREGORIAN
METHOD:PUBLISH
X-ORIGINAL-URL:https://volucap.com
X-WR-CALDESC:Events for Volucap
REFRESH-INTERVAL;VALUE=DURATION:PT1H
X-Robots-Tag:noindex
X-PUBLISHED-TTL:PT1H
BEGIN:VTIMEZONE
TZID:UTC
BEGIN:STANDARD
TZOFFSETFROM:+0000
TZOFFSETTO:+0000
TZNAME:UTC
DTSTART:20180101T000000
END:STANDARD
END:VTIMEZONE
BEGIN:VEVENT
DTSTART;VALUE=DATE:20191018
DTEND;VALUE=DATE:20191022
DTSTAMP:20260423T064127
CREATED:20190923T054317Z
LAST-MODIFIED:20210810T093910Z
UID:1281-1571356800-1571702399@volucap.com
SUMMARY:WCVRI - World Conference on VR Industry
DESCRIPTION:Under the guidance of Xi Jinping’s Thought on Socialism with Chinese Characteristics for a New Era\, the 2019 World Conference on VR Industry (WCVRI 2019)\, co-hosted by the Ministry of Industry and Information Technology and the Jiangxi Provincial People’s Government\, will be held in Nanchang\, capital of Jiangxi Province\, on October 19-21\, 2019\, with the aim of further satisfying people’s growing demand for a better life\, accelerating the modernization of China’s economic system and its transformation into an innovation-oriented country\, and promoting breakthroughs in the economic and social development of Jiangxi Province. \nWith a focus on cutting-edge technologies\, WCVRI 2019 strives to present the progress of China’s VR industry to the world and set trends for the development of the global VR industry by facilitating discussions on development paths\, showcasing the latest outcomes\, promoting the popularization of applications\, and building a platform for exchange\, so as to attract high-quality enterprises and projects to Jiangxi Province and cultivate new drivers of economic growth.
URL:https://volucap.com/event/wcvri-world-conference-on-vr-industry/
LOCATION:nangchang\, nanchang\, nanchang\, China
CATEGORIES:Conference
ATTACH;FMTTYPE=image/jpeg:https://volucap.com/wp-content/uploads/2023/09/screenshot.330.jpg
ORGANIZER;CN="Volucap GmbH":MAILTO:mail@volucap.shagren.xyz
END:VEVENT
END:VCALENDAR