BEGIN:VCALENDAR
VERSION:2.0
PRODID:-//Volucap - ECPv6.15.20//NONSGML v1.0//EN
CALSCALE:GREGORIAN
METHOD:PUBLISH
X-ORIGINAL-URL:https://volucap.com
X-WR-CALDESC:Events for Volucap
REFRESH-INTERVAL;VALUE=DURATION:PT1H
X-Robots-Tag:noindex
X-PUBLISHED-TTL:PT1H
BEGIN:VTIMEZONE
TZID:UTC
BEGIN:STANDARD
TZOFFSETFROM:+0000
TZOFFSETTO:+0000
TZNAME:UTC
DTSTART:20180101T000000
END:STANDARD
END:VTIMEZONE
BEGIN:VEVENT
DTSTART;VALUE=DATE:20191118
DTEND;VALUE=DATE:20191120
DTSTAMP:20260423T051105
CREATED:20190301T092729Z
LAST-MODIFIED:20210810T093913Z
UID:1156-1574035200-1574207999@volucap.com
SUMMARY:VR now Con & Awards 2019
DESCRIPTION:At VR NOW Con we believe that exploring immersive media is a unique endeavor. There is so much unknown territory to discover\, a map with huge white spots surrounding us in 360 degrees\, a challenge that brings people together. We want to give explorers and pioneers of VR\, MR and AR a platform to present their discoveries\, exchange ideas\, and find new friends and possible travel companions for the journey that lies ahead.
URL:https://volucap.com/event/vrnowcon-2019/
LOCATION:tbd
CATEGORIES:Conference,Convention
ATTACH;FMTTYPE=image/jpeg:https://volucap.com/wp-content/uploads/2023/09/vrnow.jpg
ORGANIZER;CN="Virtual Reality E.V.":MAILTO:mail@virtualrealitybb.org
END:VEVENT
END:VCALENDAR