BEGIN:VCALENDAR
VERSION:2.0
PRODID:-//Volucap - ECPv6.15.20//NONSGML v1.0//EN
CALSCALE:GREGORIAN
METHOD:PUBLISH
X-ORIGINAL-URL:https://volucap.com
X-WR-CALDESC:Events for Volucap
REFRESH-INTERVAL;VALUE=DURATION:PT1H
X-Robots-Tag:noindex
X-PUBLISHED-TTL:PT1H
BEGIN:VTIMEZONE
TZID:UTC
BEGIN:STANDARD
TZOFFSETFROM:+0000
TZOFFSETTO:+0000
TZNAME:UTC
DTSTART:20190101T000000
END:STANDARD
END:VTIMEZONE
BEGIN:VEVENT
DTSTART;TZID=UTC:20200218T090000
DTEND;TZID=UTC:20200219T153000
DTSTAMP:20260423T010543
CREATED:20200217T161655Z
LAST-MODIFIED:20210810T093909Z
UID:1788-1582016400-1582126200@volucap.com
SUMMARY:Technologie Innovation Days 2020 @ 3IT
DESCRIPTION:Technology Innovation Days 2020\n\n\n\n\n\n\nThe annual information and networking event Technology Innovation Days 2020 will be taking place at the 3IT again. During this two-day lecture and workshop event with Lawo\, Sony and Rohde & Schwarz and other industry experts\, let us compile a picture of the complete broadcast market through contributions and exchange of experiences! The Technology Innovation Days 2020 are all about ”expeditions to new shores”\, navigating on land along the “safe coast” now that the “fog has cleared” and continuing via “the journey to new shores”. Customers receive orientation\, recommendations for action\, approaches to solutions to implement new business models and new technologies in practice. There is no reason to panic – we follow the compass that serves as a guarantee for security and reorientation. \nTopics: \n\nCloud Production – Virtual Production\nIP Live – IP Infrastructure\nHuman\, Technology and Efficiency\nThe Human Factor\nWhat are the barriers in current projects? How can we overcome the fears of change?\nHow does the industry deal with NMOS?
URL:https://volucap.com/event/technologie-innovation-days-2020/
LOCATION:3IT\, 3IT INNOVATION CENTER FOR IMMERSIVE IMAGING TECHNOLOGIES\,\, Berlin\, Berlin\, 10587\, Germany
CATEGORIES:Conference
ATTACH;FMTTYPE=image/png:https://volucap.com/wp-content/uploads/2023/09/logo_TIDAYS2020.png
END:VEVENT
END:VCALENDAR