BEGIN:VCALENDAR
VERSION:2.0
PRODID:-//Volucap - ECPv6.15.20//NONSGML v1.0//EN
CALSCALE:GREGORIAN
METHOD:PUBLISH
X-ORIGINAL-URL:https://volucap.com
X-WR-CALDESC:Events for Volucap
REFRESH-INTERVAL;VALUE=DURATION:PT1H
X-Robots-Tag:noindex
X-PUBLISHED-TTL:PT1H
BEGIN:VTIMEZONE
TZID:UTC
BEGIN:STANDARD
TZOFFSETFROM:+0000
TZOFFSETTO:+0000
TZNAME:UTC
DTSTART:20190101T000000
END:STANDARD
END:VTIMEZONE
BEGIN:VEVENT
DTSTART;TZID=UTC:20200224T130000
DTEND;TZID=UTC:20200224T180000
DTSTAMP:20260422T231650
CREATED:20190301T095535Z
LAST-MODIFIED:20210810T093913Z
UID:1160-1582549200-1582567200@volucap.com
SUMMARY:EFM VR NOW Summit
DESCRIPTION:The EFM VR NOW Summit in Berlin shows how film\, television and immersive media like Virtual Reality and 360 video are coming together. Get excited about how entertainment advances today. Get inspired by fantastic stories and opinions of international VR figure heads. Connect with content creators\, producers and IP owners from both worlds. Get your own project started.
URL:https://volucap.com/event/efm-vr-now-summit/
LOCATION:tbd
CATEGORIES:Conference
ATTACH;FMTTYPE=image/jpeg:https://volucap.com/wp-content/uploads/2023/09/vr_now.jpg
ORGANIZER;CN="Virtual Reality E.V.":MAILTO:mail@virtualrealitybb.org
END:VEVENT
END:VCALENDAR