BEGIN:VCALENDAR
VERSION:2.0
PRODID:-//Volucap - ECPv6.15.20//NONSGML v1.0//EN
CALSCALE:GREGORIAN
METHOD:PUBLISH
X-ORIGINAL-URL:https://volucap.com
X-WR-CALDESC:Events for Volucap
REFRESH-INTERVAL;VALUE=DURATION:PT1H
X-Robots-Tag:noindex
X-PUBLISHED-TTL:PT1H
BEGIN:VTIMEZONE
TZID:UTC
BEGIN:STANDARD
TZOFFSETFROM:+0000
TZOFFSETTO:+0000
TZNAME:UTC
DTSTART:20190101T000000
END:STANDARD
END:VTIMEZONE
BEGIN:VEVENT
DTSTART;VALUE=DATE:20200418
DTEND;VALUE=DATE:20200423
DTSTAMP:20260422T213331
CREATED:20200220T130627Z
LAST-MODIFIED:20210810T093909Z
UID:1842-1587168000-1587599999@volucap.com
SUMMARY:NAB 2020
DESCRIPTION:NAB Show® 2020 is an unrivaled source. For content professionals from all corners of the media\, entertainment and technology ecosystem. For those seeking to create superior audio and visual experiences. For those striving to drive listeners and viewers in larger numbers for greater reach. 
URL:https://volucap.com/event/nab-2020/
LOCATION:NAB Show\, NAB Show\, 3150 Paradise Rd\, Las vegas\, NV\, 89109\, United States
CATEGORIES:Expo
ATTACH;FMTTYPE=image/png:https://volucap.com/wp-content/uploads/2023/09/logo_NAB.png
END:VEVENT
BEGIN:VEVENT
DTSTART;TZID=UTC:20200422T100000
DTEND;TZID=UTC:20200424T120000
DTSTAMP:20260422T213331
CREATED:20200217T125414Z
LAST-MODIFIED:20210810T093909Z
UID:1779-1587549600-1587729600@volucap.com
SUMMARY:Laval Virtual 2020
DESCRIPTION:Laval Virtual\, Europe’s 1st Virtual Reality and Augmented Reality exhibition. \nEvery year\, the town of Laval turns into the capital of Virtual Reality\, bringing together\, in one place\, all major players in the field of VR/AR: researchers\, startups\, large groups\, investors\, artists and users. The Laval Virtual show is a great opportunity to meet all the players in the sector and to seize new business opportunities!At this 22nd edition\, Laval Virtual asserts its expertise and facilitating role in the field of virtual reality with 5 conference series: VRtical\, TransVRsal\, ConVRgence\, XR Invest and Recto VRso. The programme is comprehensive and visionary with almost 200 speakers and experts from over 50 countries.As part of its commitment to promoting creators of XR solutions worldwide\, Laval Virtual honours virtual reality and augmented reality projects that help solve industrial\, commercial issues… or pioneering uses through the Laval Virtual Awards.
URL:https://volucap.com/event/laval-virtual-2020/
LOCATION:Laval Virtual Center\, Rue Marie Curie\, Changé\, 53810\, France
CATEGORIES:Conference,Expo
ATTACH;FMTTYPE=image/png:https://volucap.com/wp-content/uploads/2023/09/Laval-Virtual-Show-2020.png
END:VEVENT
END:VCALENDAR