BEGIN:VCALENDAR
VERSION:2.0
PRODID:-//Volucap - ECPv6.15.20//NONSGML v1.0//EN
CALSCALE:GREGORIAN
METHOD:PUBLISH
X-WR-CALNAME:Volucap
X-ORIGINAL-URL:https://volucap.com
X-WR-CALDESC:Events for Volucap
REFRESH-INTERVAL;VALUE=DURATION:PT1H
X-Robots-Tag:noindex
X-PUBLISHED-TTL:PT1H
BEGIN:VTIMEZONE
TZID:UTC
BEGIN:STANDARD
TZOFFSETFROM:+0000
TZOFFSETTO:+0000
TZNAME:UTC
DTSTART:20190101T000000
END:STANDARD
END:VTIMEZONE
BEGIN:VEVENT
DTSTART;VALUE=DATE:20200625
DTEND;VALUE=DATE:20200627
DTSTAMP:20260422T182033
CREATED:20191204T073832Z
LAST-MODIFIED:20210810T093910Z
UID:1493-1593043200-1593215999@volucap.com
SUMMARY:XR Expo - Stuttgart 2020
DESCRIPTION:XR Expo 2019 will take place in the Wagenhallen in Stuttgart from 25.-26. June 2020\, the fourth edition of the fair will take place. \nThe XR Expo is an exhibition fair for VR / AR / MR technologies (Virtual / Advanced and Mixed Reality) and B2B applications. Our target group consists of professional users of VR / AR / MR in the industry (automotive\, engineering\, etc.)\, architecture\, medicine\, trade and craft. In addition to presentations on best practices from business\, the XR Expo features presentations on new XR methods and technologies from technology groups\, startups and scientific research. In addition\, you have the opportunity to exchange ideas in the StartUp Area or in the Developer Forum or make new contacts during Match Making and Recruiting.
URL:https://volucap.com/event/xr-expo-stuttgart-2020/
LOCATION:Virtual
CATEGORIES:Expo
ATTACH;FMTTYPE=image/jpeg:https://volucap.com/wp-content/uploads/2023/09/keyvisual-xr-expo-2019.jpg
ORGANIZER;CN="Ligthshape GmbH & Co.KG":MAILTO:contact@lightshape.net
END:VEVENT
END:VCALENDAR