BEGIN:VCALENDAR
VERSION:2.0
PRODID:-//Volucap - ECPv6.15.20//NONSGML v1.0//EN
CALSCALE:GREGORIAN
METHOD:PUBLISH
X-ORIGINAL-URL:https://volucap.com
X-WR-CALDESC:Events for Volucap
REFRESH-INTERVAL;VALUE=DURATION:PT1H
X-Robots-Tag:noindex
X-PUBLISHED-TTL:PT1H
BEGIN:VTIMEZONE
TZID:UTC
BEGIN:STANDARD
TZOFFSETFROM:+0000
TZOFFSETTO:+0000
TZNAME:UTC
DTSTART:20190101T000000
END:STANDARD
END:VTIMEZONE
BEGIN:VEVENT
DTSTART;VALUE=DATE:20200911
DTEND;VALUE=DATE:20200916
DTSTAMP:20260422T135731
CREATED:20191204T074725Z
LAST-MODIFIED:20210810T093909Z
UID:1495-1599782400-1600214399@volucap.com
SUMMARY:IBC 2020
DESCRIPTION:The IBC Future Zone brings together the very latest ideas\, innovations and concept technologies from international industry and academia\, and showcases them in a single specially-curated exhibition area within the IBC Exhibition. \nInternational Broadcasting Convention\, more commonly known by its initials IBC\, is an annual trade show\, held in September at the RAI Exhibition and Convention Centre in Amsterdam\, the Netherlands. \n2019\, the Volucap was selected as one of the partners of the IBC Future Zone and received the What Caught My Eye at IBC award. \n 
URL:https://volucap.com/event/ibc-2020/
LOCATION:RAI\, Amsterdam\, Europaplein 24\, 1078 GZ Amsterdam\, Amsterdam\, Netherlands
CATEGORIES:Conference,Expo
ATTACH;FMTTYPE=image/jpeg:https://volucap.com/wp-content/uploads/2023/09/ibc.jpg
END:VEVENT
END:VCALENDAR