BEGIN:VCALENDAR
VERSION:2.0
PRODID:-//Volucap - ECPv6.15.20//NONSGML v1.0//EN
CALSCALE:GREGORIAN
METHOD:PUBLISH
X-ORIGINAL-URL:https://volucap.com
X-WR-CALDESC:Events for Volucap
REFRESH-INTERVAL;VALUE=DURATION:PT1H
X-Robots-Tag:noindex
X-PUBLISHED-TTL:PT1H
BEGIN:VTIMEZONE
TZID:UTC
BEGIN:STANDARD
TZOFFSETFROM:+0000
TZOFFSETTO:+0000
TZNAME:UTC
DTSTART:20190101T000000
END:STANDARD
END:VTIMEZONE
BEGIN:VEVENT
DTSTART;VALUE=DATE:20201028
DTEND;VALUE=DATE:20201031
DTSTAMP:20260422T110645
CREATED:20201029T082336Z
LAST-MODIFIED:20210810T093907Z
UID:5631-1603843200-1604102399@volucap.com
SUMMARY:Nordic VR Forum 2020
DESCRIPTION:The overall topic of the conference is “immersive learning technologies” – specifically we focus on the four topics VR in Learning & Training\, Storytelling\, Health Care and Technical Development. The next-generation tools are already here. Now it’s time to start aligning learning strategy with business strategy and create value – today!
URL:https://volucap.com/event/nordic-vr-forum-2020/
LOCATION:Hamar\, Norway\, Hamar\, Norway
CATEGORIES:Conference,Forum
ATTACH;FMTTYPE=image/png:https://volucap.com/wp-content/uploads/2023/09/nordic_vr_forum_logo.png
END:VEVENT
END:VCALENDAR