BEGIN:VCALENDAR
VERSION:2.0
PRODID:-//Volucap - ECPv6.15.20//NONSGML v1.0//EN
CALSCALE:GREGORIAN
METHOD:PUBLISH
X-ORIGINAL-URL:https://volucap.com
X-WR-CALDESC:Events for Volucap
REFRESH-INTERVAL;VALUE=DURATION:PT1H
X-Robots-Tag:noindex
X-PUBLISHED-TTL:PT1H
BEGIN:VTIMEZONE
TZID:UTC
BEGIN:STANDARD
TZOFFSETFROM:+0000
TZOFFSETTO:+0000
TZNAME:UTC
DTSTART:20190101T000000
END:STANDARD
END:VTIMEZONE
BEGIN:VEVENT
DTSTART;VALUE=DATE:20201210
DTEND;VALUE=DATE:20201211
DTSTAMP:20260422T095146
CREATED:20201209T093228Z
LAST-MODIFIED:20210810T093903Z
UID:6813-1607558400-1607644799@volucap.com
SUMMARY:Radical innovation - by entrepreneurial researchers and researching entrepreneurs
DESCRIPTION:Volucap presents at the radical innovation workshop of DIHK\n\nThe German economy maintains its position in global competition through “German engineering” as well as its distinct ability to innovate step by step. However\, there is a backlog in the production and dissemination of disruptive innovations. As a rule\, it is not possible to know in advance which innovations will have disruptive qualities. But if you don’t take the plunge\, you can’t end up right at the top. And this is where the Agency for Jump Innovations (SprinD) comes in. \nThe DIHK (German Chamber of Industry and Commerce) has examined the companies’ views on the subject of radical disruptive innovation in more detail in a study and has held 70 discussions with highly innovative entrepreneurs for this purpose. The good news is that there is a highly innovative section of the SME sector that has already “jumped” several times without bringing this to the attention of the general public\, while their global customers are well aware of it. \nOn December 10\, 2020\, from 15:00 – 17:00\, we will not only present the results of the DIGITAL study\, but also open a virtual stage to radically innovative “novelties” such as Nobel Prize winner Prof. Stefan Hell. We cordially invite you to attend! In-depth discussions are planned in two rounds of talks – among others with SprinD director Rafael Laguna de la Vera and Prof. Katharina Hölzle\, member of the Expert Commission for Research and Innovation.
URL:https://volucap.com/event/radical-innovation-by-entrepreneurial-researchers-and-researching-entrepreneurs/
LOCATION:Germany\, Berlin
CATEGORIES:Workshop
ATTACH;FMTTYPE=image/png:https://volucap.com/wp-content/uploads/2023/09/einladung-sprunginnovationen-dezember-2020-data.png
END:VEVENT
END:VCALENDAR