BEGIN:VCALENDAR
VERSION:2.0
PRODID:-//Volucap - ECPv6.15.20//NONSGML v1.0//EN
CALSCALE:GREGORIAN
METHOD:PUBLISH
X-WR-CALNAME:Volucap
X-ORIGINAL-URL:https://volucap.com
X-WR-CALDESC:Events for Volucap
REFRESH-INTERVAL;VALUE=DURATION:PT1H
X-Robots-Tag:noindex
X-PUBLISHED-TTL:PT1H
BEGIN:VTIMEZONE
TZID:UTC
BEGIN:STANDARD
TZOFFSETFROM:+0000
TZOFFSETTO:+0000
TZNAME:UTC
DTSTART:20200101T000000
END:STANDARD
END:VTIMEZONE
BEGIN:VEVENT
DTSTART;VALUE=DATE:20210111
DTEND;VALUE=DATE:20210115
DTSTAMP:20260422T083635
CREATED:20201212T124833Z
LAST-MODIFIED:20210810T093903Z
UID:6978-1610323200-1610668799@volucap.com
SUMMARY:CES® Is the Global Stage for Innovation
DESCRIPTION:CES® is the most influential tech event in the world — the proving ground for breakthrough technologies and global innovators. This is where the world’s biggest brands do business and meet new partners\, and the sharpest innovators hit the stage. Owned and produced by the Consumer Technology Association (CTA)®\, CES features every aspect of the tech sector. \nCES showcases companies including manufacturers\, developers and suppliers of consumer technology hardware\, content\, technology delivery systems and more. \nIt also includes a conference program where the world’s business leaders and pioneering thinkers address the industry’s most relevant issues.
URL:https://volucap.com/event/ces-is-the-global-stage-for-innovation/
LOCATION:Las Vegas Convention Center\, 3150 Paradise Road\, Winchester\, Nevada\, U.S.\, NV\, United States
CATEGORIES:Conference,Expo
ATTACH;FMTTYPE=image/png:https://volucap.com/wp-content/uploads/2023/09/ces-cta-logo-combo-blue-text-logo-left_1147x399.png
END:VEVENT
END:VCALENDAR