BEGIN:VCALENDAR
VERSION:2.0
PRODID:-//Volucap - ECPv6.15.20//NONSGML v1.0//EN
CALSCALE:GREGORIAN
METHOD:PUBLISH
X-WR-CALNAME:Volucap
X-ORIGINAL-URL:https://volucap.com
X-WR-CALDESC:Events for Volucap
REFRESH-INTERVAL;VALUE=DURATION:PT1H
X-Robots-Tag:noindex
X-PUBLISHED-TTL:PT1H
BEGIN:VTIMEZONE
TZID:UTC
BEGIN:STANDARD
TZOFFSETFROM:+0000
TZOFFSETTO:+0000
TZNAME:UTC
DTSTART:20200101T000000
END:STANDARD
END:VTIMEZONE
BEGIN:VEVENT
DTSTART;VALUE=DATE:20210122
DTEND;VALUE=DATE:20210124
DTSTAMP:20260422T083638
CREATED:20201221T141934Z
LAST-MODIFIED:20210810T093903Z
UID:6979-1611273600-1611446399@volucap.com
SUMMARY:Aurea Award 2021
DESCRIPTION:The AUREA conference & awards give creativity and innovation a stage in front of a worldwide audience of VR and AR enthusiasts – in the setting of one of the world’s leading theme parks and a pioneer in immersive tech and Location Based Entertainment (LBE) itself. \nBesides showcasing the most exciting products and experiences\, the conference also includes workshops and talks while leaving room for networking and enjoyment. \nThe AUREA Award is a global competition to identify excellence in AR & VR with a unique focus on entertainment. AUREA seeks to present products and services that not only deliver great experiences\, but also demonstrate the great potential of this sector for the future of technology and entertainment.  
URL:https://volucap.com/event/aurea-award/
LOCATION:Europa-Park\, Europa-Park-Straße 2\, Rust\, Baden-Württemberg\, 77977\, Germany
CATEGORIES:Conference
ATTACH;FMTTYPE=image/jpeg:https://volucap.com/wp-content/uploads/2023/09/maxresdefault-1.jpg
END:VEVENT
END:VCALENDAR