BEGIN:VCALENDAR
VERSION:2.0
PRODID:-//Volucap - ECPv6.15.20//NONSGML v1.0//EN
CALSCALE:GREGORIAN
METHOD:PUBLISH
X-WR-CALNAME:Volucap
X-ORIGINAL-URL:https://volucap.com
X-WR-CALDESC:Events for Volucap
REFRESH-INTERVAL;VALUE=DURATION:PT1H
X-Robots-Tag:noindex
X-PUBLISHED-TTL:PT1H
BEGIN:VTIMEZONE
TZID:UTC
BEGIN:STANDARD
TZOFFSETFROM:+0000
TZOFFSETTO:+0000
TZNAME:UTC
DTSTART:20200101T000000
END:STANDARD
END:VTIMEZONE
BEGIN:VEVENT
DTSTART;VALUE=DATE:20210429
DTEND;VALUE=DATE:20210430
DTSTAMP:20260422T024244
CREATED:20210415T141041Z
LAST-MODIFIED:20210810T093900Z
UID:8304-1619654400-1619740799@volucap.com
SUMMARY:The Evolution of Live Communication
DESCRIPTION:The Evolution of Live Communication – Real\, virtual and hybrid encounters in culture\, events\, TV & gaming \n„Why experiencing has to be thought of differently and what will change for live communication”\, „How the platform economy influences the design of events”. If topics like these interest you\, this hybrid event will be perfect you. Join in as experts in XR\, future technologies\, event management and more discuss the evolution of live communication.\nSven Bliedung von der Heide (CEO at Volucap) will be part of a deep dive into mixed reality and live platforms at 02:45 p.m. \nFind the full agenda here \nRegister for this event here
URL:https://volucap.com/event/the-evolution-of-live-communication/
LOCATION:Berlin\, Germany
CATEGORIES:Panel
ATTACH;FMTTYPE=image/jpeg:https://volucap.com/wp-content/uploads/2023/09/VDVO_Evolution_TMS.jpg
END:VEVENT
END:VCALENDAR