BEGIN:VCALENDAR
VERSION:2.0
PRODID:-//Volucap - ECPv6.15.20//NONSGML v1.0//EN
CALSCALE:GREGORIAN
METHOD:PUBLISH
X-ORIGINAL-URL:https://volucap.com
X-WR-CALDESC:Events for Volucap
REFRESH-INTERVAL;VALUE=DURATION:PT1H
X-Robots-Tag:noindex
X-PUBLISHED-TTL:PT1H
BEGIN:VTIMEZONE
TZID:Europe/Paris
BEGIN:DAYLIGHT
TZOFFSETFROM:+0100
TZOFFSETTO:+0200
TZNAME:CEST
DTSTART:20200329T010000
END:DAYLIGHT
BEGIN:STANDARD
TZOFFSETFROM:+0200
TZOFFSETTO:+0100
TZNAME:CET
DTSTART:20201025T010000
END:STANDARD
BEGIN:DAYLIGHT
TZOFFSETFROM:+0100
TZOFFSETTO:+0200
TZNAME:CEST
DTSTART:20210328T010000
END:DAYLIGHT
BEGIN:STANDARD
TZOFFSETFROM:+0200
TZOFFSETTO:+0100
TZNAME:CET
DTSTART:20211031T010000
END:STANDARD
BEGIN:DAYLIGHT
TZOFFSETFROM:+0100
TZOFFSETTO:+0200
TZNAME:CEST
DTSTART:20220327T010000
END:DAYLIGHT
BEGIN:STANDARD
TZOFFSETFROM:+0200
TZOFFSETTO:+0100
TZNAME:CET
DTSTART:20221030T010000
END:STANDARD
END:VTIMEZONE
BEGIN:VEVENT
DTSTART;TZID=Europe/Paris:20210526T200000
DTEND;TZID=Europe/Paris:20210526T220000
DTSTAMP:20260422T024442
CREATED:20210421T125522Z
LAST-MODIFIED:20230711T124638Z
UID:8387-1622059200-1622066400@volucap.com
SUMMARY:VFX Talk - Volumetric Video
DESCRIPTION:In regularly recurring events\, the SAE Institute Zürich invites experts in VFX and animation to showcase their expertise. \nTogether with John von Ascheraden\, Sven Bliedung von der Heide (CEO of Volucap) will talk about his experiences in VFX and share his knowledge of future technologies like the cutting-edge volumetric video studio at Volucap. \nThe online event is hosted by SAE Institute Zürich and offers students as well as enthusiasts interesting insights into the world of professional volumetric production. \nRegister for free!
URL:https://volucap.com/event/vfx-talks-meet-the-pros/
LOCATION:SAE Institute\, Zürich\, Switzerland
CATEGORIES:Talk
ATTACH;FMTTYPE=image/png:https://volucap.com/wp-content/uploads/2023/09/Thomas_Rotunde_5MB.png
END:VEVENT
END:VCALENDAR