BEGIN:VCALENDAR
VERSION:2.0
PRODID:-//Volucap - ECPv6.15.20//NONSGML v1.0//EN
CALSCALE:GREGORIAN
METHOD:PUBLISH
X-WR-CALNAME:Volucap
X-ORIGINAL-URL:https://volucap.com
X-WR-CALDESC:Events for Volucap
REFRESH-INTERVAL;VALUE=DURATION:PT1H
X-Robots-Tag:noindex
X-PUBLISHED-TTL:PT1H
BEGIN:VTIMEZONE
TZID:UTC
BEGIN:STANDARD
TZOFFSETFROM:+0000
TZOFFSETTO:+0000
TZNAME:UTC
DTSTART:20200101T000000
END:STANDARD
END:VTIMEZONE
BEGIN:VEVENT
DTSTART;VALUE=DATE:20210601
DTEND;VALUE=DATE:20210701
DTSTAMP:20260422T012236
CREATED:20210106T164102Z
LAST-MODIFIED:20210810T093903Z
UID:7240-1622505600-1625097599@volucap.com
SUMMARY:Berlinale
DESCRIPTION:Berlinale 2021 will be a festival in two stages. \nThe industry platforms will kick off the 71st Berlinale in March with online offerings. In June\, there will be a summer event with numerous film screenings for public audiences – in cinemas as well as open air. \nThe Berlinale is a unique place of artistic exploration and entertainment. It is one of the largest public film festivals in the world\, attracting tens of thousands of visitors from around the globe each year. For the film industry and the media\, the eleven days in February are also one of the most important events in the annual calendar and an indispensable trading forum. \nThe Berlin International Film Festival enjoys an eventful history. The festival was created for the Berlin public in 1951\, at the beginning of the Cold War\, as a “showcase of the free world”. Shaped by the turbulent post-war period and the unique situation of a divided city\, the Berlinale has developed into a place of intercultural exchange and a platform for the critical cinematic exploration of social issues. To this day it is considered the most political of all the major film festivals. \nThe Berlinale brings the big stars of international cinema to Berlin and discovers new talents. It accompanies filmmakers of all disciplines on their paths into the spotlight and supports careers\, projects\, dreams and visions.
URL:https://volucap.com/event/berlinale/
LOCATION:Berlin\, Germany
CATEGORIES:Festival
ATTACH;FMTTYPE=image/jpeg:https://volucap.com/wp-content/uploads/2023/09/Berlinale_allgemein_Logo.jpg
END:VEVENT
BEGIN:VEVENT
DTSTART;VALUE=DATE:20210609
DTEND;VALUE=DATE:20210621
DTSTAMP:20260422T012236
CREATED:20210106T163045Z
LAST-MODIFIED:20210810T093903Z
UID:7230-1623196800-1624233599@volucap.com
SUMMARY:Tribeca Film Festival
DESCRIPTION:Tribeca is thrilled to announce that the 20th-anniversary edition of Tribeca Film Festival\, presented by AT&T\, will take place in New York City from June 9 through June 20\, 2021 — new dates to ensure the Festival moves forward in the safest environment. \nFor two decades\, Tribeca has showcased storytellers from around the world who’ve used art to inspire positive change\, plus introduced audiences to new forms of storytelling. The Festival was established in the aftermath of 9/11 in an effort to bring people together through the arts and send a signal of resiliency to the world. Tribeca looks forward to bringing the community together once again to celebrate emerging and established voices; discover award-winning filmmakers and creators; and enjoy innovative experiences.
URL:https://volucap.com/event/tribeca-film-festival/
LOCATION:New York\, U.S\, United States
CATEGORIES:Festival
ATTACH;FMTTYPE=image/png:https://volucap.com/wp-content/uploads/2023/09/large_Dates.png
END:VEVENT
END:VCALENDAR