BEGIN:VCALENDAR
VERSION:2.0
PRODID:-//Volucap - ECPv6.15.20//NONSGML v1.0//EN
CALSCALE:GREGORIAN
METHOD:PUBLISH
X-WR-CALNAME:Volucap
X-ORIGINAL-URL:https://volucap.com
X-WR-CALDESC:Events for Volucap
REFRESH-INTERVAL;VALUE=DURATION:PT1H
X-Robots-Tag:noindex
X-PUBLISHED-TTL:PT1H
BEGIN:VTIMEZONE
TZID:UTC
BEGIN:STANDARD
TZOFFSETFROM:+0000
TZOFFSETTO:+0000
TZNAME:UTC
DTSTART:20200101T000000
END:STANDARD
END:VTIMEZONE
BEGIN:VEVENT
DTSTART;VALUE=DATE:20210910
DTEND;VALUE=DATE:20210915
DTSTAMP:20260421T202454
CREATED:20201204T075002Z
LAST-MODIFIED:20210810T093906Z
UID:1499-1631232000-1631663999@volucap.com
SUMMARY:IBC 2021
DESCRIPTION:IBC is the world’s most influential media\, entertainment and technology show. Six leading international bodies are the partners behind IBC\, representing both exhibitors and visitors.In 2019 IBC attracted more than 56\,000 attendees from 150 countries around the world\, exhibiting more than 1\,700 of the world’s key technology suppliers and showcasing a debate-leading conference.
URL:https://volucap.com/event/ibc-2021/
LOCATION:RAI\, Amsterdam\, Europaplein 24\, 1078 GZ Amsterdam\, Amsterdam\, Netherlands
CATEGORIES:Conference,Expo
ATTACH;FMTTYPE=image/jpeg:https://volucap.com/wp-content/uploads/2023/09/ibc.jpg
END:VEVENT
END:VCALENDAR