BEGIN:VCALENDAR
VERSION:2.0
PRODID:-//Volucap - ECPv6.15.20//NONSGML v1.0//EN
CALSCALE:GREGORIAN
METHOD:PUBLISH
X-WR-CALNAME:Volucap
X-ORIGINAL-URL:https://volucap.com
X-WR-CALDESC:Events for Volucap
REFRESH-INTERVAL;VALUE=DURATION:PT1H
X-Robots-Tag:noindex
X-PUBLISHED-TTL:PT1H
BEGIN:VTIMEZONE
TZID:UTC
BEGIN:STANDARD
TZOFFSETFROM:+0000
TZOFFSETTO:+0000
TZNAME:UTC
DTSTART:20210101T000000
END:STANDARD
END:VTIMEZONE
BEGIN:VEVENT
DTSTART;VALUE=DATE:20220119
DTEND;VALUE=DATE:20220121
DTSTAMP:20260421T133147
CREATED:20220111T130454Z
LAST-MODIFIED:20220111T130454Z
UID:11133-1642550400-1642723199@volucap.com
SUMMARY:Hamburg Open 2022
DESCRIPTION:Since 2009\, the HAMBURG OPEN with its mix of networking event\, expo and lecture program has been an important orientation point for technology and creative professionals in the broadcast and media technology industry. For two days\, professional users and purchasing managers have the opportunity to experience new products and pioneering technology live. \nTitle: The Evolution of Volumetric CaptureSpeaker: Sven Bliedung (CEO)\, VolucapTime: 19. and 20.01.21 from 13:00 – 13:30 each \n  \n 
URL:https://volucap.com/event/hamburg-open-2022/
LOCATION:Congress Center Hamburg
CATEGORIES:Talk
ATTACH;FMTTYPE=image/png:https://volucap.com/wp-content/uploads/2023/09/B_0122_Hamburg_Open_Logo_1.png
END:VEVENT
END:VCALENDAR