BEGIN:VCALENDAR
VERSION:2.0
PRODID:-//Volucap - ECPv6.15.20//NONSGML v1.0//EN
CALSCALE:GREGORIAN
METHOD:PUBLISH
X-WR-CALNAME:Volucap
X-ORIGINAL-URL:https://volucap.com
X-WR-CALDESC:Events for Volucap
REFRESH-INTERVAL;VALUE=DURATION:PT1H
X-Robots-Tag:noindex
X-PUBLISHED-TTL:PT1H
BEGIN:VTIMEZONE
TZID:UTC
BEGIN:STANDARD
TZOFFSETFROM:+0000
TZOFFSETTO:+0000
TZNAME:UTC
DTSTART:20210101T000000
END:STANDARD
END:VTIMEZONE
BEGIN:VEVENT
DTSTART;VALUE=DATE:20220311
DTEND;VALUE=DATE:20220321
DTSTAMP:20260421T102526
CREATED:20210817T153025Z
LAST-MODIFIED:20220311T130043Z
UID:9301-1646956800-1647820799@volucap.com
SUMMARY:SXSW 2022
DESCRIPTION:CONNECTING TO LIVING HISTORY WITH VOLUMETRIC VIDEO\n\nThe mid 19th century saw the introduction of photography as witness to history. Abraham Lincoln and the Civil War are approachable to us in the 21st century in many ways due to the use of the camera as witness. As we move forward\, spatial computing offers a similar inflection point\, and volumetric capture offers a way of connecting to the people who make history in ways that are entirely novel. This panel discusses their experience with capturing legacy\, and where they think the future lies. \n\nSXSW 2022 Shedule\n\nMatrix Resurrections – Next Level Bullet Time\n\nWith their groundbreaking cyberpunk milestone “The Matrix”\, the Wachowskis catapulted the sci-fi genre into the new millennium and revolutionized the use of digital effects in Hollywood blockbusters. Volucap has developed novel volumetric capture solutions capable of capturing cinema-quality three dimensional images of actors and environments with movement (volumetric video). For Matrix Resurrections\, Volucap has developed a wide range of different volumetric recording systems\, from portable handheld solutions to the world’s first underwater volumetric studio. Sven Bliedung von der Heide gives an insight into the production\, in which he was involved for 2 years \n\nMar 13\, 2022 / 14:30 – 15:30pm CDT / Austin Convention Center / Room 17AB \n\nConnecting to Living History with Volumetric Video\n\nThe mid 19th century saw the introduction of photography as witness to history. Abraham Lincoln and the Civil War are approachable to us in the 21st century in many ways due to the use of the camera as witness. As we move forward\, spatial computing offers a similar inflection point\, and volumetric capture offers a way of connecting to the people who make history in ways that are entirely novel. This panel discusses their experience with capturing legacy\, and where they think the future lies. \n\nMar 16\, 2022 / 11:30 – 12:30pm CDT / Austin Marriott Downtown / Waller Ballroom \n\nGerman Pavilion\n\nSXSW in Austin/Texas focuses on the digital economy and the music\, film and interactive media industries\, which are continuously being transformed by digitalization. There are a variety of workshops and seminars\, as well as a wide-ranging entertainment program. The Digital Hub Initiative will represent the German start-up scene as part of the German Pavilion in 2022 and will be present at the Creative Industries Expo from March 13-16.
URL:https://volucap.com/event/sxsw-2022/
LOCATION:Austin\, Texas\, Austin Convention Center\, TX
CATEGORIES:Conference,Festival
ATTACH;FMTTYPE=image/png:https://volucap.com/wp-content/uploads/2023/09/sxsw2022.png
END:VEVENT
END:VCALENDAR