BEGIN:VCALENDAR
VERSION:2.0
PRODID:-//Volucap - ECPv6.15.20//NONSGML v1.0//EN
CALSCALE:GREGORIAN
METHOD:PUBLISH
X-ORIGINAL-URL:https://volucap.com
X-WR-CALDESC:Events for Volucap
REFRESH-INTERVAL;VALUE=DURATION:PT1H
X-Robots-Tag:noindex
X-PUBLISHED-TTL:PT1H
BEGIN:VTIMEZONE
TZID:UTC
BEGIN:STANDARD
TZOFFSETFROM:+0000
TZOFFSETTO:+0000
TZNAME:UTC
DTSTART:20210101T000000
END:STANDARD
END:VTIMEZONE
BEGIN:VEVENT
DTSTART;VALUE=DATE:20220321
DTEND;VALUE=DATE:20220326
DTSTAMP:20260421T103546
CREATED:20220307T073921Z
LAST-MODIFIED:20220307T074043Z
UID:11417-1647820800-1648252799@volucap.com
SUMMARY:Game Developers Converence
DESCRIPTION:The Game Developers Conference (GDC) brings the game development community together to exchange ideas\, solve problems\, and shape the future of the industry across five days of education\, inspiration\, and networking. Attendees include programmers\, artists\, producers\, game designers\, audio professionals\, and business leaders. Some key features of GDC include: \nThe market-defining conference has a comprehensive selection of lectures\, panels\, and roundtable discussions. \nThe GDC Expo showcases the latest game development tools and services from leading technology companies such as Amazon\, Epic\, Google\, Intel\, Nvidia\, Oculus\, and Sony. \nDedicated community spaces where GDC attendees can take a break from all of the learning to relax and meet new people in themed areas for playable indie games\, retro games\, alternative controllers\, and more. \nVolucap will be on site!
URL:https://volucap.com/event/game-developers-converence/
LOCATION:San Francisco\, CA
CATEGORIES:Conference
ATTACH;FMTTYPE=image/png:https://volucap.com/wp-content/uploads/2023/09/gdc_2022.png
END:VEVENT
END:VCALENDAR