BEGIN:VCALENDAR
VERSION:2.0
PRODID:-//Volucap - ECPv6.15.20//NONSGML v1.0//EN
CALSCALE:GREGORIAN
METHOD:PUBLISH
X-ORIGINAL-URL:https://volucap.com
X-WR-CALDESC:Events for Volucap
REFRESH-INTERVAL;VALUE=DURATION:PT1H
X-Robots-Tag:noindex
X-PUBLISHED-TTL:PT1H
BEGIN:VTIMEZONE
TZID:UTC
BEGIN:STANDARD
TZOFFSETFROM:+0000
TZOFFSETTO:+0000
TZNAME:UTC
DTSTART:20210101T000000
END:STANDARD
END:VTIMEZONE
BEGIN:VEVENT
DTSTART;VALUE=DATE:20220503
DTEND;VALUE=DATE:20220507
DTSTAMP:20260421T073900
CREATED:20220112T085425Z
LAST-MODIFIED:20220112T085425Z
UID:11158-1651536000-1651881599@volucap.com
SUMMARY:FMX 2022 Changing the Game
DESCRIPTION:FMX 2022 – Back in Stuttgart!\n\n\n\n\n\n\n\n\nThis upcoming 26th edition of FMX will be a hybrid conference\, combining the best of both the virtual and the real world: Join us on May 3-5\, 2022 on site and on May 6 online to explore the best of animation\, effects\, immersive and interactive media! \n\n\n\n\n  \n 
URL:https://volucap.com/event/fmx-2022-changing-the-game/
LOCATION:Stuttgart\, Germany
CATEGORIES:Conference,Forum
ATTACH;FMTTYPE=image/jpeg:https://volucap.com/wp-content/uploads/2023/09/logo1280x720_12-1288x724-1.jpg
END:VEVENT
END:VCALENDAR