BEGIN:VCALENDAR
VERSION:2.0
PRODID:-//Volucap - ECPv6.15.20//NONSGML v1.0//EN
CALSCALE:GREGORIAN
METHOD:PUBLISH
X-ORIGINAL-URL:https://volucap.com
X-WR-CALDESC:Events for Volucap
REFRESH-INTERVAL;VALUE=DURATION:PT1H
X-Robots-Tag:noindex
X-PUBLISHED-TTL:PT1H
BEGIN:VTIMEZONE
TZID:UTC
BEGIN:STANDARD
TZOFFSETFROM:+0000
TZOFFSETTO:+0000
TZNAME:UTC
DTSTART:20210101T000000
END:STANDARD
END:VTIMEZONE
BEGIN:VEVENT
DTSTART;VALUE=DATE:20220612
DTEND;VALUE=DATE:20220615
DTSTAMP:20260421T060339
CREATED:20220608T122912Z
LAST-MODIFIED:20220608T122912Z
UID:12538-1654992000-1655251199@volucap.com
SUMMARY:Ostdeutsches Wirtschaftsforum 2022 | OWF22
DESCRIPTION:The East German Business Forum (OWF) has been the leading business conference in eastern Germany since 2016 and makes successful transformation processes visible. Together with thought leaders* and doers from business\, politics\, science and society\, the initiative contributes to courageously seizing the opportunities of transformation and thus to sustainably shaping change processes. Eastern Germany is the symbol of successful transformation and home of the OWF. \nAt the OWF’s annual lighthouse event in Bad Saarow\, relevant players come together to identify opportunities\, name challenges\, share knowledge\, initiate collaborations and create new ideas and solutions as the key to successful structural change. In short: The best global ideas for successful transformation are to be exchanged. \nOWF22 will take place in Bad Saarow from June 12-14\, 2022. More information can be found here.
URL:https://volucap.com/event/ostdeutsches-wirtschaftsforum-2022-owf22/
LOCATION:Bad Saarow\, Bad Saarow\, Germany
CATEGORIES:Forum
ATTACH;FMTTYPE=image/png:https://volucap.com/wp-content/uploads/2023/09/OWF2022_start_2560x620-1536x372-1.png
END:VEVENT
END:VCALENDAR