BEGIN:VCALENDAR
VERSION:2.0
PRODID:-//Volucap - ECPv6.15.20//NONSGML v1.0//EN
CALSCALE:GREGORIAN
METHOD:PUBLISH
X-WR-CALNAME:Volucap
X-ORIGINAL-URL:https://volucap.com
X-WR-CALDESC:Events for Volucap
REFRESH-INTERVAL;VALUE=DURATION:PT1H
X-Robots-Tag:noindex
X-PUBLISHED-TTL:PT1H
BEGIN:VTIMEZONE
TZID:UTC
BEGIN:STANDARD
TZOFFSETFROM:+0000
TZOFFSETTO:+0000
TZNAME:UTC
DTSTART:20210101T000000
END:STANDARD
END:VTIMEZONE
BEGIN:VEVENT
DTSTART;VALUE=DATE:20220928
DTEND;VALUE=DATE:20220930
DTSTAMP:20260420T232005
CREATED:20220603T065227Z
LAST-MODIFIED:20220603T065227Z
UID:12493-1664323200-1664495999@volucap.com
SUMMARY:MEDIATECH HUB CONFERENCE
DESCRIPTION:IT’S ALL MEDIATECH NOW!\n  \nThe MediaTech Hub Conference has a new Autumn slot this year. Under the motto “Sustainability\, Cloud and The New Virtual” we’ll be showcasing a range of hot topics such as the decarbonization of video production and streaming\, how and why synthetic content is created\, and the big issue right now\, the Metaverse. Find out more about the NFT explosion\,  what new virtual realities mean to both filmmakers and the auto industry\, and much more in our exciting upcoming programme. Keep an eye out here for updates! \n  \nThe MediaTech Hub Conference is the only B2B event in Germany that focuses on media technologies. Encompassing all video and audio-related technologies and business in the digital sphere\, MediaTech is rapidly changing the way we live and work. At #mthcon we explore the potential\, best practices and challenges of MediaTech in the context of both entertainment and business. We bring together experts from across a wide range of industries to help inform and guide #mthcon participants in the development and use of the latest technologies in their businesses. \n  \n\n\n\n\nJoin the Community: At MediaTech Hub Conference you will meet tech executives\, decision makers\, innovation heads and creatives working with media technologies across a wide range of fields in our entertainment and industry communities. \n\n\n\n\n\n\n\n\n\n\n\n\n\n\n\n\n\n\n\n\n\n\n\n\n\n\nENTERTAINMENT \n\nBroadcaster / Studios\nDistributors\nSuppliers\nAcademic institutions\nStartups\n\n\n\n\n\n\n\n\n\n\nINDUSTRY \n\nCorporates\nSMEs\nSuppliers\nR&D institutions\nStartups\n\n\n\n\n\n\n\n\n\n\n\n\n\n\n\n\n\n\nWE ARE HYBRID\n\n\nThis year’s MediaTech Hub Conference will take place in a hybrid format: \nLIVE at Babelsberg Studios\, the Hollywood of Europe\, and ONLINE on our bespoke digital event platform.
URL:https://volucap.com/event/mediatech-hub-conference-2022/
LOCATION:Potsdam\, Babelsberg\, Germany
CATEGORIES:Conference
ATTACH;FMTTYPE=image/jpeg:https://volucap.com/wp-content/uploads/2023/09/mediatechhub2022_1.jpg
END:VEVENT
END:VCALENDAR