BEGIN:VCALENDAR
VERSION:2.0
PRODID:-//Volucap - ECPv6.15.20//NONSGML v1.0//EN
CALSCALE:GREGORIAN
METHOD:PUBLISH
X-ORIGINAL-URL:https://volucap.com
X-WR-CALDESC:Events for Volucap
REFRESH-INTERVAL;VALUE=DURATION:PT1H
X-Robots-Tag:noindex
X-PUBLISHED-TTL:PT1H
BEGIN:VTIMEZONE
TZID:UTC
BEGIN:STANDARD
TZOFFSETFROM:+0000
TZOFFSETTO:+0000
TZNAME:UTC
DTSTART:20210101T000000
END:STANDARD
END:VTIMEZONE
BEGIN:VEVENT
DTSTART;VALUE=DATE:20221029
DTEND;VALUE=DATE:20221030
DTSTAMP:20260420T232113
CREATED:20220204T161412Z
LAST-MODIFIED:20220204T161412Z
UID:11339-1667001600-1667087999@volucap.com
SUMMARY:VFX Talk | Matrix 4 - New Level of Visual Effects
DESCRIPTION:New Level of Visual Effects (3D Photogrammetry is the new Bullet Time)What new techniques were used in the new Matrix film? \nWhat were the years of preparation? \nHow were volumetric shots created on set and underwater? \nSven Bliedung von der Heide\, CEO of Volucap also worked on the visual effects for Cloud Atlas at the time and knows the high expectations of Lana Wachowski. Beforehand\, many camera manufacturers were tested and evaluated for use at Volucap. RED was able to provide the necessary data quality required for the challenging volumetric shots. Volucap was involved in the early development of particularly challenging action sequences and visual effects\, and spent a total of two years working with the Matrix team on the new sequel to the franchise. \n  \n 
URL:https://volucap.com/event/vfx-talk-matrix-4-new-level-of-visual-effects/
LOCATION:Online Event
CATEGORIES:Talk
ATTACH;FMTTYPE=image/jpeg:https://volucap.com/wp-content/uploads/2023/09/simulatte-face.mp4_snapshot_00.09.jpg
END:VEVENT
END:VCALENDAR