BEGIN:VCALENDAR
VERSION:2.0
PRODID:-//Volucap - ECPv6.15.20//NONSGML v1.0//EN
CALSCALE:GREGORIAN
METHOD:PUBLISH
X-ORIGINAL-URL:https://volucap.com
X-WR-CALDESC:Events for Volucap
REFRESH-INTERVAL;VALUE=DURATION:PT1H
X-Robots-Tag:noindex
X-PUBLISHED-TTL:PT1H
BEGIN:VTIMEZONE
TZID:UTC
BEGIN:STANDARD
TZOFFSETFROM:+0000
TZOFFSETTO:+0000
TZNAME:UTC
DTSTART:20220101T000000
END:STANDARD
END:VTIMEZONE
BEGIN:VEVENT
DTSTART;VALUE=DATE:20230310
DTEND;VALUE=DATE:20230320
DTSTAMP:20260420T151638
CREATED:20221209T155655Z
LAST-MODIFIED:20230313T100847Z
UID:15143-1678406400-1679270399@volucap.com
SUMMARY:SXSW 2023
DESCRIPTION:An essential destination for global professionals\, the annual March event features Conference sessions\, Film & TV Festival screenings\, Music Festival showcases\, world-class Exhibitions\, competitions\, Awards ceremonies\, and much more. Experience unparalleled discovery\, learning\, professional development\, and networking with creatives from around the world at SXSW. \nWe look forward to welcoming everyone to SXSW 2023 from March 10-19 in Austin\, Texas! \nYou will find Volucap at the following locations: \nSAT MARCH 11\, 2023Event: Kick-Off Evening Event: German Start-Up NightTime: 7:30 pm – 11:00 pmVenue: German Haus at Parkside – GERMAN HAUS \nSUN MARCH 12\, 2023Event: „Deepfake in movies and media“ by de:hubType: PanelTime: 10:00 am – 11:30 am (CST)Venue: German Haus at Parkside – GERMAN HAUS \nMON MARCH 13\, 2023Event: German PavilionType: StandTime: 9:00 am – 4:00 pm (CST)Venue: Austin Convention Center – GERMAN PAVILION \nEvent: We solve problems during breakfast! Superconnector Business Breakfast by de:hubTime: 10:00 am – 11:30 am (CST)Venue: German Haus at Parkside – GERMAN HAUS \nEvent: Start-Up Pitches by de:hubType: PitchTime: 02:15 pm – 02:25 pm (CST)Venue: Austin Convention Center – GERMAN PAVILION \nFor meetings contact pr@volucap.de \nRead more: https://www.german-haus.com/program/
URL:https://volucap.com/event/sxsw-2023/
LOCATION:Austin\, Texas\, Austin Convention Center\, TX
CATEGORIES:Conference
ATTACH;FMTTYPE=image/png:https://volucap.com/wp-content/uploads/2023/09/23_SXSW_website-seo_1.png
END:VEVENT
END:VCALENDAR