BEGIN:VCALENDAR
VERSION:2.0
PRODID:-//Volucap - ECPv6.15.20//NONSGML v1.0//EN
CALSCALE:GREGORIAN
METHOD:PUBLISH
X-WR-CALNAME:Volucap
X-ORIGINAL-URL:https://volucap.com
X-WR-CALDESC:Events for Volucap
REFRESH-INTERVAL;VALUE=DURATION:PT1H
X-Robots-Tag:noindex
X-PUBLISHED-TTL:PT1H
BEGIN:VTIMEZONE
TZID:Europe/Helsinki
BEGIN:DAYLIGHT
TZOFFSETFROM:+0200
TZOFFSETTO:+0300
TZNAME:EEST
DTSTART:20220327T010000
END:DAYLIGHT
BEGIN:STANDARD
TZOFFSETFROM:+0300
TZOFFSETTO:+0200
TZNAME:EET
DTSTART:20221030T010000
END:STANDARD
BEGIN:DAYLIGHT
TZOFFSETFROM:+0200
TZOFFSETTO:+0300
TZNAME:EEST
DTSTART:20230326T010000
END:DAYLIGHT
BEGIN:STANDARD
TZOFFSETFROM:+0300
TZOFFSETTO:+0200
TZNAME:EET
DTSTART:20231029T010000
END:STANDARD
BEGIN:DAYLIGHT
TZOFFSETFROM:+0200
TZOFFSETTO:+0300
TZNAME:EEST
DTSTART:20240331T010000
END:DAYLIGHT
BEGIN:STANDARD
TZOFFSETFROM:+0300
TZOFFSETTO:+0200
TZNAME:EET
DTSTART:20241027T010000
END:STANDARD
END:VTIMEZONE
BEGIN:VEVENT
DTSTART;TZID=Europe/Helsinki:20230516T180000
DTEND;TZID=Europe/Helsinki:20230516T220000
DTSTAMP:20260420T120857
CREATED:20230512T134347Z
LAST-MODIFIED:20230516T143509Z
UID:16560-1684260000-1684274400@volucap.com
SUMMARY:Microsoft - Mixed Reality in Museums
DESCRIPTION:Experience the Spirit of the Times in History: The Emergence of Mixed Reality in Museums and Exhibition Spaces \nDiscover a new dimension of museum exploration with us at the Cold War Museum! Immerse yourselves in a world filled with interactivity and immersion\, stimulating your senses and allowing you to journey through history. \nIn partnership with Microsoft\, Bechtle\, and the Cold War Museum\, we warmly invite you to witness firsthand how Mixed Reality solutions can revolutionize museums and exhibition spaces. Experience a personalized journey with the Microsoft Hololens 2 and other state-of-the-art AR and VR glasses. Get a glimpse behind the scenes and discover how innovative technologies elevate the museum visit to a new level. \nCome meet us at the booth from 18:00 to 22:00\, and attend the panel where our CEO\, Sven Bliedung von der Heide\, will discuss the innovative and successful use of modern mixed reality technology in museums. \n  \nRegistration link: https://tockify.com/vr.business.platform/detail/415/1684252800000 \n  \nTUE MAY 16\, 2023 \nPanel: “New experiences enabled by Mixed Reality – why should Museums care” \nTime: 20:40-21:10 (UTC +2 CEST) \nPlace: Cold War Museum Berlin\, Unter den Linden 14\, 10117 Berlin \n  \n  \nFor meetings contact pr@volucap.de
URL:https://volucap.com/event/vr-business-club-event-on-the-topic-of-mixed-reality-in-museums/
LOCATION:Berlin\, Germany
CATEGORIES:Talk
ATTACH;FMTTYPE=image/jpeg:https://volucap.com/wp-content/uploads/2023/09/museumevent.jpg
END:VEVENT
END:VCALENDAR