BEGIN:VCALENDAR
VERSION:2.0
PRODID:-//Volucap - ECPv6.15.20//NONSGML v1.0//EN
CALSCALE:GREGORIAN
METHOD:PUBLISH
X-ORIGINAL-URL:https://volucap.com
X-WR-CALDESC:Events for Volucap
REFRESH-INTERVAL;VALUE=DURATION:PT1H
X-Robots-Tag:noindex
X-PUBLISHED-TTL:PT1H
BEGIN:VTIMEZONE
TZID:Europe/Helsinki
BEGIN:DAYLIGHT
TZOFFSETFROM:+0200
TZOFFSETTO:+0300
TZNAME:EEST
DTSTART:20220327T010000
END:DAYLIGHT
BEGIN:STANDARD
TZOFFSETFROM:+0300
TZOFFSETTO:+0200
TZNAME:EET
DTSTART:20221030T010000
END:STANDARD
BEGIN:DAYLIGHT
TZOFFSETFROM:+0200
TZOFFSETTO:+0300
TZNAME:EEST
DTSTART:20230326T010000
END:DAYLIGHT
BEGIN:STANDARD
TZOFFSETFROM:+0300
TZOFFSETTO:+0200
TZNAME:EET
DTSTART:20231029T010000
END:STANDARD
BEGIN:DAYLIGHT
TZOFFSETFROM:+0200
TZOFFSETTO:+0300
TZNAME:EEST
DTSTART:20240331T010000
END:DAYLIGHT
BEGIN:STANDARD
TZOFFSETFROM:+0300
TZOFFSETTO:+0200
TZNAME:EET
DTSTART:20241027T010000
END:STANDARD
END:VTIMEZONE
BEGIN:VEVENT
DTSTART;VALUE=DATE:20230524
DTEND;VALUE=DATE:20230525
DTSTAMP:20260420T121115
CREATED:20230522T121836Z
LAST-MODIFIED:20230726T142653Z
UID:16602-1684886400-1684972799@volucap.com
SUMMARY:Innovative Data Infrastructure Forum 2023
DESCRIPTION:We’re thrilled to announce that Volucap’s CEO Sven Bliedung von der Heide will be a speaker at the esteemed Innovative Data Infrastructure Forum 2023. In a world where intelligence is power and data is the new currency\, this event marks a significant occasion that brings together global thought leaders\, industry innovators\, and ecosystem partners to envision the future of digital transformation. \nSven will address “Pushing Technology Boundaries to Deliver True 3D Video“\, illuminating Volucap’s pioneering role in this transformative space. We look forward to contributing to the discourse on data infrastructure innovation at the forum. \n  \nTime: 10:20–11:20 (UTC +2) \nKeynote: “Pushing Technology Boundaries to Deliver True 3D Video” \nPlace: Andreas-Danzer-Weg 1 – 3\, 85716 Unterschleißheim\, Munich\, Germany \n  \nSee you in Munich! \n  \nFor meetings contact pr@volucap.de
URL:https://volucap.com/event/innovative_data_infrastructure_forum_2023/
LOCATION:INFINITY Hotel & Conference Resort\, Andreas-Danzer-Weg 1 – 3\, 85716 Unterschleißheim\, Munich\, Germany
CATEGORIES:Forum,Talk
ATTACH;FMTTYPE=image/jpeg:https://volucap.com/wp-content/uploads/2023/09/img_6861.jpg
END:VEVENT
END:VCALENDAR