BEGIN:VCALENDAR
VERSION:2.0
PRODID:-//Volucap - ECPv6.15.20//NONSGML v1.0//EN
CALSCALE:GREGORIAN
METHOD:PUBLISH
X-ORIGINAL-URL:https://volucap.com
X-WR-CALDESC:Events for Volucap
REFRESH-INTERVAL;VALUE=DURATION:PT1H
X-Robots-Tag:noindex
X-PUBLISHED-TTL:PT1H
BEGIN:VTIMEZONE
TZID:America/Los_Angeles
BEGIN:DAYLIGHT
TZOFFSETFROM:-0800
TZOFFSETTO:-0700
TZNAME:PDT
DTSTART:20220313T100000
END:DAYLIGHT
BEGIN:STANDARD
TZOFFSETFROM:-0700
TZOFFSETTO:-0800
TZNAME:PST
DTSTART:20221106T090000
END:STANDARD
BEGIN:DAYLIGHT
TZOFFSETFROM:-0800
TZOFFSETTO:-0700
TZNAME:PDT
DTSTART:20230312T100000
END:DAYLIGHT
BEGIN:STANDARD
TZOFFSETFROM:-0700
TZOFFSETTO:-0800
TZNAME:PST
DTSTART:20231105T090000
END:STANDARD
BEGIN:DAYLIGHT
TZOFFSETFROM:-0800
TZOFFSETTO:-0700
TZNAME:PDT
DTSTART:20240310T100000
END:DAYLIGHT
BEGIN:STANDARD
TZOFFSETFROM:-0700
TZOFFSETTO:-0800
TZNAME:PST
DTSTART:20241103T090000
END:STANDARD
END:VTIMEZONE
BEGIN:VEVENT
DTSTART;TZID=America/Los_Angeles:20230727T090000
DTEND;TZID=America/Los_Angeles:20230727T110000
DTSTAMP:20260420T094235
CREATED:20230717T140451Z
LAST-MODIFIED:20230717T141400Z
UID:17397-1690448400-1690455600@volucap.com
SUMMARY:MetaTr@versal: Accelerating Volumetric
DESCRIPTION:MetaT@versal brings together industry leaders for discussions on advancing the future of XR. \nWith this event\, we turn our attention to the state of Volumetric Video\, to ask the question\, what collective pain points need to be solved for\, and what is needed from the industry to accelerate adoption? \nFor more about this event\, and the previous events\, visit https://bit.ly/metatraversal9  \nThis 2 hour event will be held at 9am PDT on Thursday\, July 27th \n  \nTo sum up: \nTime: 9am (UTC−07:00 (Los Angeles))  \nTopic: “What will it takes for all boats to rise?” \nPlace: ZOOM \n  \nSee you online! \n  \nFor meetings and more information contact pr@volucap.de
URL:https://volucap.com/event/metatrversal/
LOCATION:Baden-Württemberg
CATEGORIES:Talk,Webinar
ATTACH;FMTTYPE=image/jpeg:https://volucap.com/wp-content/uploads/2023/09/MetaTraversalPoster.jpg
END:VEVENT
END:VCALENDAR