BEGIN:VCALENDAR
VERSION:2.0
PRODID:-//Volucap - ECPv6.15.20//NONSGML v1.0//EN
CALSCALE:GREGORIAN
METHOD:PUBLISH
X-ORIGINAL-URL:https://volucap.com
X-WR-CALDESC:Events for Volucap
REFRESH-INTERVAL;VALUE=DURATION:PT1H
X-Robots-Tag:noindex
X-PUBLISHED-TTL:PT1H
BEGIN:VTIMEZONE
TZID:Europe/Rome
BEGIN:DAYLIGHT
TZOFFSETFROM:+0100
TZOFFSETTO:+0200
TZNAME:CEST
DTSTART:20220327T010000
END:DAYLIGHT
BEGIN:STANDARD
TZOFFSETFROM:+0200
TZOFFSETTO:+0100
TZNAME:CET
DTSTART:20221030T010000
END:STANDARD
BEGIN:DAYLIGHT
TZOFFSETFROM:+0100
TZOFFSETTO:+0200
TZNAME:CEST
DTSTART:20230326T010000
END:DAYLIGHT
BEGIN:STANDARD
TZOFFSETFROM:+0200
TZOFFSETTO:+0100
TZNAME:CET
DTSTART:20231029T010000
END:STANDARD
BEGIN:DAYLIGHT
TZOFFSETFROM:+0100
TZOFFSETTO:+0200
TZNAME:CEST
DTSTART:20240331T010000
END:DAYLIGHT
BEGIN:STANDARD
TZOFFSETFROM:+0200
TZOFFSETTO:+0100
TZNAME:CET
DTSTART:20241027T010000
END:STANDARD
END:VTIMEZONE
BEGIN:VEVENT
DTSTART;VALUE=DATE:20230831
DTEND;VALUE=DATE:20230904
DTSTAMP:20260420T064706
CREATED:20230717T143139Z
LAST-MODIFIED:20230717T143355Z
UID:17401-1693440000-1693785599@volucap.com
SUMMARY:80th Venice International Film Festival
DESCRIPTION:The 80th Venice International Film Festival is organised by La Biennale di Venezia. It will take place at Venice Lido from 30 August to 9 September 2023. The Festival is officially recognised by the FIAPF (International Federation of Film Producers Association). \n\n\nThe aim of the Festival is to raise awareness and promote international cinema in all its forms as art\, entertainment and as an industry\, in a spirit of freedom and dialogue. The Festival also organises retrospectives and tributes to major figures as a contribution towards a better understanding of the history of cinema. \n\nWe are happy to announce that Volucap will be participating in the Festival as a co-producer\, along with NEONREAL\, for the production of the nominated film ‘Aufwind‘. \n  \nOur CEO\, Sven Bliedung von der Heide\, will represent the company. \nSee you there! \n  \nFor meetings contact pr@volucap.de
URL:https://volucap.com/event/80th-venice-international-film-festival/
LOCATION:Baden-Württemberg
CATEGORIES:Festival,Talk
ATTACH;FMTTYPE=image/jpeg:https://volucap.com/wp-content/uploads/2023/07/La-Biennale-di-Venezia-2017-e1689604427566.jpg
END:VEVENT
END:VCALENDAR