BEGIN:VCALENDAR
VERSION:2.0
PRODID:-//Volucap - ECPv6.15.20//NONSGML v1.0//EN
CALSCALE:GREGORIAN
METHOD:PUBLISH
X-ORIGINAL-URL:https://volucap.com
X-WR-CALDESC:Events for Volucap
REFRESH-INTERVAL;VALUE=DURATION:PT1H
X-Robots-Tag:noindex
X-PUBLISHED-TTL:PT1H
BEGIN:VTIMEZONE
TZID:Europe/Berlin
BEGIN:DAYLIGHT
TZOFFSETFROM:+0100
TZOFFSETTO:+0200
TZNAME:CEST
DTSTART:20220327T010000
END:DAYLIGHT
BEGIN:STANDARD
TZOFFSETFROM:+0200
TZOFFSETTO:+0100
TZNAME:CET
DTSTART:20221030T010000
END:STANDARD
BEGIN:DAYLIGHT
TZOFFSETFROM:+0100
TZOFFSETTO:+0200
TZNAME:CEST
DTSTART:20230326T010000
END:DAYLIGHT
BEGIN:STANDARD
TZOFFSETFROM:+0200
TZOFFSETTO:+0100
TZNAME:CET
DTSTART:20231029T010000
END:STANDARD
BEGIN:DAYLIGHT
TZOFFSETFROM:+0100
TZOFFSETTO:+0200
TZNAME:CEST
DTSTART:20240331T010000
END:DAYLIGHT
BEGIN:STANDARD
TZOFFSETFROM:+0200
TZOFFSETTO:+0100
TZNAME:CET
DTSTART:20241027T010000
END:STANDARD
END:VTIMEZONE
BEGIN:VEVENT
DTSTART;VALUE=DATE:20231018
DTEND;VALUE=DATE:20231019
DTSTAMP:20260420T052603
CREATED:20231013T121619Z
LAST-MODIFIED:20231013T121619Z
UID:18066-1697587200-1697673599@volucap.com
SUMMARY:MIPCOM 2023
DESCRIPTION:Content Creation Summit – Virtual Production and Beyond\n\nMIPCOM CANNES gathers each October in the international red-carpet capital of Cannes\, France\, timed to coincide with the peak autumn buying season for new series and production rollouts.  \nThis year Volucap is part of the “Content Creation Summit” session by SONY. The session is all about the New Efficient Way to Produce TV DRAMA with Advanced Technologies such as volumetric capture and deepfakes. Our Director of Business Development Peter Lorenz is shares the case studies by Volucap at such big Hollywood productions as “The Matrix Resurrections” and “Mickey17” (2024) by Warner Bros.\, “1899” by NETFLIX\, and “Me & Myself” by SKY GERMANY. \n\n  \n\nFor meetings contact pr@volucap.de
URL:https://volucap.com/event/volucap-at-mipcom/
LOCATION:Palais des Festivals\, Cannes\, France
CATEGORIES:Conference,Talk
ATTACH;FMTTYPE=image/jpeg:https://volucap.com/wp-content/uploads/2023/10/volucap_mipcom_cannes-e1697199342896.jpg
END:VEVENT
END:VCALENDAR