BEGIN:VCALENDAR
VERSION:2.0
PRODID:-//Volucap - ECPv6.15.20//NONSGML v1.0//EN
CALSCALE:GREGORIAN
METHOD:PUBLISH
X-WR-CALNAME:Volucap
X-ORIGINAL-URL:https://volucap.com
X-WR-CALDESC:Events for Volucap
REFRESH-INTERVAL;VALUE=DURATION:PT1H
X-Robots-Tag:noindex
X-PUBLISHED-TTL:PT1H
BEGIN:VTIMEZONE
TZID:Europe/Berlin
BEGIN:DAYLIGHT
TZOFFSETFROM:+0100
TZOFFSETTO:+0200
TZNAME:CEST
DTSTART:20220327T010000
END:DAYLIGHT
BEGIN:STANDARD
TZOFFSETFROM:+0200
TZOFFSETTO:+0100
TZNAME:CET
DTSTART:20221030T010000
END:STANDARD
BEGIN:DAYLIGHT
TZOFFSETFROM:+0100
TZOFFSETTO:+0200
TZNAME:CEST
DTSTART:20230326T010000
END:DAYLIGHT
BEGIN:STANDARD
TZOFFSETFROM:+0200
TZOFFSETTO:+0100
TZNAME:CET
DTSTART:20231029T010000
END:STANDARD
BEGIN:DAYLIGHT
TZOFFSETFROM:+0100
TZOFFSETTO:+0200
TZNAME:CEST
DTSTART:20240331T010000
END:DAYLIGHT
BEGIN:STANDARD
TZOFFSETFROM:+0200
TZOFFSETTO:+0100
TZNAME:CET
DTSTART:20241027T010000
END:STANDARD
END:VTIMEZONE
BEGIN:VEVENT
DTSTART;VALUE=DATE:20231130
DTEND;VALUE=DATE:20231201
DTSTAMP:20260420T022042
CREATED:20230809T135859Z
LAST-MODIFIED:20231023T084227Z
UID:17560-1701302400-1701388799@volucap.com
SUMMARY:AI-Conference: How AI revolutionizes our work
DESCRIPTION:Sven Bliedung von der Heide\, CEO of Volucap\, will be a keynote speaker at the AI-Conference: How AI revolutionizes our work! \nWith notable projects like ‘The Matrix Resurrections’ under their belt\, Volucap has firmly established itself as an industry leader in the fields of volumetrics\, deepfakes\, and AI. During his talk\, Sven will share insights into how Volucap crafted AI-generated visual effects for the latest Matrix movie and the journey Volucap took to become a global leader in the industry in just a few years. \n  \nWhen? November 30\, 2023\, from 9:00 AM – 4:00 PMWhere? Dock3\, Lausitz \n  \n\nFor meetings contact pr@volucap.de
URL:https://volucap.com/event/ai-conference-how-ai-revolutionizes-our-work/
LOCATION:Baden-Württemberg
CATEGORIES:Conference,Talk
ATTACH;FMTTYPE=image/jpeg:https://volucap.com/wp-content/uploads/2023/08/ki-konferenz-lausitz-dock3-small.jpg
END:VEVENT
END:VCALENDAR