BEGIN:VCALENDAR
VERSION:2.0
PRODID:-//Volucap - ECPv6.15.20//NONSGML v1.0//EN
CALSCALE:GREGORIAN
METHOD:PUBLISH
X-ORIGINAL-URL:https://volucap.com
X-WR-CALDESC:Events for Volucap
REFRESH-INTERVAL;VALUE=DURATION:PT1H
X-Robots-Tag:noindex
X-PUBLISHED-TTL:PT1H
BEGIN:VTIMEZONE
TZID:Europe/Paris
BEGIN:DAYLIGHT
TZOFFSETFROM:+0100
TZOFFSETTO:+0200
TZNAME:CEST
DTSTART:20230326T010000
END:DAYLIGHT
BEGIN:STANDARD
TZOFFSETFROM:+0200
TZOFFSETTO:+0100
TZNAME:CET
DTSTART:20231029T010000
END:STANDARD
BEGIN:DAYLIGHT
TZOFFSETFROM:+0100
TZOFFSETTO:+0200
TZNAME:CEST
DTSTART:20240331T010000
END:DAYLIGHT
BEGIN:STANDARD
TZOFFSETFROM:+0200
TZOFFSETTO:+0100
TZNAME:CET
DTSTART:20241027T010000
END:STANDARD
BEGIN:DAYLIGHT
TZOFFSETFROM:+0100
TZOFFSETTO:+0200
TZNAME:CEST
DTSTART:20250330T010000
END:DAYLIGHT
BEGIN:STANDARD
TZOFFSETFROM:+0200
TZOFFSETTO:+0100
TZNAME:CET
DTSTART:20251026T010000
END:STANDARD
END:VTIMEZONE
BEGIN:VTIMEZONE
TZID:Europe/Berlin
BEGIN:DAYLIGHT
TZOFFSETFROM:+0100
TZOFFSETTO:+0200
TZNAME:CEST
DTSTART:20230326T010000
END:DAYLIGHT
BEGIN:STANDARD
TZOFFSETFROM:+0200
TZOFFSETTO:+0100
TZNAME:CET
DTSTART:20231029T010000
END:STANDARD
BEGIN:DAYLIGHT
TZOFFSETFROM:+0100
TZOFFSETTO:+0200
TZNAME:CEST
DTSTART:20240331T010000
END:DAYLIGHT
BEGIN:STANDARD
TZOFFSETFROM:+0200
TZOFFSETTO:+0100
TZNAME:CET
DTSTART:20241027T010000
END:STANDARD
BEGIN:DAYLIGHT
TZOFFSETFROM:+0100
TZOFFSETTO:+0200
TZNAME:CEST
DTSTART:20250330T010000
END:DAYLIGHT
BEGIN:STANDARD
TZOFFSETFROM:+0200
TZOFFSETTO:+0100
TZNAME:CET
DTSTART:20251026T010000
END:STANDARD
END:VTIMEZONE
BEGIN:VEVENT
DTSTART;VALUE=DATE:20240522
DTEND;VALUE=DATE:20240526
DTSTAMP:20260419T161353
CREATED:20240208T085910Z
LAST-MODIFIED:20240604T121119Z
UID:18668-1716336000-1716681599@volucap.com
SUMMARY:VivaTech 2024
DESCRIPTION:Volucap at VivaTech 2024!\nWe’re happy to announce that Volucap is joining the forefront of innovation at VivaTech\, the epicenter of technological evolution and creativity! This incredible event brings together the brightest startups\, visionary tech leaders\, influential corporations\, and forward-thinking investors\, all united to address the grand challenges facing our world today. \nAt VivaTech\, it’s all about accelerating innovation\, fostering connections\, and sparking transformative ideas that shape the future. And we’re proud to be part of this dynamic ecosystem\, showcasing our cutting-edge solutions and engaging with the global tech community. \nStay tuned for more details on where to find us at the event. We can’t wait to connect\, collaborate\, and contribute to the tech revolution with you! \n  \nDATE: 22.05-25.05.2023 \nPLACE: Porte de Versailles\, Paris \n  \nFor meetings contact: mail@volucap.de
URL:https://volucap.com/event/vivatech-2024/
LOCATION:Paris Expo Porte de Versailles\, 1 Place de la Porte de Versailles\, Paris\, F-75015\, France
CATEGORIES:Conference,Forum,Panel
ATTACH;FMTTYPE=image/png:https://volucap.com/wp-content/uploads/2024/02/VIVATECH2024-volucap.png
END:VEVENT
BEGIN:VEVENT
DTSTART;TZID=Europe/Berlin:20240523T170000
DTEND;TZID=Europe/Berlin:20240523T193000
DTSTAMP:20260419T161353
CREATED:20240325T104815Z
LAST-MODIFIED:20240604T120950Z
UID:19386-1716483600-1716492600@volucap.com
SUMMARY:Model 4.0 - AI in Advertising: Competition\, Revolution\, Transformation
DESCRIPTION:Model 4.0 – AI in Advertising: Competition\, Revolution\, Transformation\nAt the conference organized by ZAV Artists’ Placement\, Sven Bliedung von der Heide\, CEO of Volucap\, alongside other experts\, will explore the impacts of artificial intelligence on the job market for artists in advertising and motion picture sectors. The event aims to give participants a deep understanding of current AI trends and address challenges and solutions. \nThe conference will examine AI’s role in the modeling industry and its potential implications for artistic careers in advertising. Discussions will focus on AI’s current capabilities\, its future applications\, and how artists can stay competitive in an evolving industry. \nKey questions include the future necessity of real models or photographers and the possibility of clients creating their own images. Ethical considerations and legal frameworks relevant to AI in the industry will also be discussed\, aiming to offer a forward-looking perspective on these developments. \n  \nFor meetings contact: mail@volucap.de \n 
URL:https://volucap.com/event/ai-in-advertising-conference/
LOCATION:CLB Berlin\, Prinzenstraße 84.2\, Berlin\, 10969
CATEGORIES:Conference,Panel,Talk
ATTACH;FMTTYPE=image/jpeg:https://volucap.com/wp-content/uploads/2024/03/model4.0_1.jpg
END:VEVENT
END:VCALENDAR