BEGIN:VCALENDAR
VERSION:2.0
PRODID:-//Volucap - ECPv6.15.20//NONSGML v1.0//EN
CALSCALE:GREGORIAN
METHOD:PUBLISH
X-ORIGINAL-URL:https://volucap.com
X-WR-CALDESC:Events for Volucap
REFRESH-INTERVAL;VALUE=DURATION:PT1H
X-Robots-Tag:noindex
X-PUBLISHED-TTL:PT1H
BEGIN:VTIMEZONE
TZID:UTC
BEGIN:STANDARD
TZOFFSETFROM:+0000
TZOFFSETTO:+0000
TZNAME:UTC
DTSTART:20180101T000000
END:STANDARD
END:VTIMEZONE
BEGIN:VEVENT
DTSTART;VALUE=DATE:20191107
DTEND;VALUE=DATE:20191110
DTSTAMP:20260423T051254
CREATED:20190626T061517Z
LAST-MODIFIED:20210810T093911Z
UID:1225-1573084800-1573343999@volucap.com
SUMMARY:Infinity Film Festival 2019
DESCRIPTION:At Infinity Festival\, the leading Silicon Valley innovators come together with Hollywood’s storytelling professionals to take over one city block in the heart of Hollywood! \n  \nInfinity Festival officially launched in 2018 with over 85 Advisors from the major studios\, talent agencies and Silicon Valley technology companies as a unique festival in Los Angeles that celebrates “Story Advanced by Technology.” IF brings much-needed context to the conversation of how the art of storytelling is evolving due to the ever-changing\, influential technology being used to create and enjoy creative content. \n  \nVolucap was already part of the first Infinity Film Festival.\nOriginally launched as the “Infinity Film Festival” in order to put the focus squarely on the storytelling aspect of all of this content\, Beverly Hills served as the beautiful home to this multi-day launch\, which resulted in 6 venues and more than 100 screenings\, 200 speakers\, 30 technology exhibitions\, 120MM+ in media reach for its sponsors and festival participants and much more. United Talent Agency hosted the opening night VIP kick-off reception\, in partnership with CTA\, producers of the Consumer Electronics Show (CES) in Las Vegas. \nDue to the successful brand launch\, festival Advisors determined that “Film” was no longer needed in the name of the festival to support the focus on storytelling. In year two\, the name has returned to its original moniker\, Infinity Festival\, to properly welcome in all formats of content\, whether Film\, TV\, Streaming\, Immersive\, computer-driven AI\, Gaming and more. \nGo to FESTIVAL 2019 \n  \nInfinity Festival has quickly evolved into an exclusive event in Los Angeles bringing the leading storytellers from Hollywood together with the leading tech innovators from Silicon Valley. The best way to get involved with this power networking group\, and experience the Evolution of Imagination(tm)\, is to get your tickets today! \nGo to TICKETS
URL:https://volucap.com/event/infinity-film-festival-2019/
LOCATION:GOYA STUDIOS\, 1541 N Cahuenga Blvd Hollywood\, CA 90028\, Los Angeles\, CA\, 90028\, United States
CATEGORIES:Expo,Festival
ATTACH;FMTTYPE=image/jpeg:https://volucap.com/wp-content/uploads/2023/09/708098921_1280x720.jpg
ORGANIZER;CN="infinityfestival":MAILTO:mail@infinityfestival.com
END:VEVENT
END:VCALENDAR