BEGIN:VCALENDAR
VERSION:2.0
PRODID:-//Volucap - ECPv6.15.20//NONSGML v1.0//EN
CALSCALE:GREGORIAN
METHOD:PUBLISH
X-ORIGINAL-URL:https://volucap.com
X-WR-CALDESC:Events for Volucap
REFRESH-INTERVAL;VALUE=DURATION:PT1H
X-Robots-Tag:noindex
X-PUBLISHED-TTL:PT1H
BEGIN:VTIMEZONE
TZID:UTC
BEGIN:STANDARD
TZOFFSETFROM:+0000
TZOFFSETTO:+0000
TZNAME:UTC
DTSTART:20220101T000000
END:STANDARD
END:VTIMEZONE
BEGIN:VEVENT
DTSTART;VALUE=DATE:20230105
DTEND;VALUE=DATE:20230109
DTSTAMP:20260420T182919
CREATED:20221209T160439Z
LAST-MODIFIED:20221209T160439Z
UID:15141-1672876800-1673222399@volucap.com
SUMMARY:CES 2023
DESCRIPTION:CES 2023 IS THE GLOBAL STAGE FOR INNOVATION\nCES® is the most influential tech event in the world — the proving ground for breakthrough technologies and global innovators. \nThis is where the world’s biggest brands do business and meet new partners\, and the sharpest innovators hit the stage. Owned and produced by the Consumer Technology Association (CTA)®\, CES features every aspect of the tech sector. \n  \n 
URL:https://volucap.com/event/ces-2023/
LOCATION:Las Vegas Convention Center\, 3150 Paradise Road\, Winchester\, Nevada\, U.S.\, NV\, United States
CATEGORIES:Festival
ATTACH;FMTTYPE=image/jpeg:https://volucap.com/wp-content/uploads/2023/09/ces-2023-logo-scaled-1.jpg
END:VEVENT
END:VCALENDAR