BEGIN:VCALENDAR
VERSION:2.0
PRODID:-//Volucap - ECPv6.15.20//NONSGML v1.0//EN
CALSCALE:GREGORIAN
METHOD:PUBLISH
X-ORIGINAL-URL:https://volucap.com
X-WR-CALDESC:Events for Volucap
REFRESH-INTERVAL;VALUE=DURATION:PT1H
X-Robots-Tag:noindex
X-PUBLISHED-TTL:PT1H
BEGIN:VTIMEZONE
TZID:UTC
BEGIN:STANDARD
TZOFFSETFROM:+0000
TZOFFSETTO:+0000
TZNAME:UTC
DTSTART:20200101T000000
END:STANDARD
END:VTIMEZONE
BEGIN:VEVENT
DTSTART;VALUE=DATE:20210916
DTEND;VALUE=DATE:20210919
DTSTAMP:20260421T221142
CREATED:20210914T091704Z
LAST-MODIFIED:20211026T061237Z
UID:9448-1631750400-1632009599@volucap.com
SUMMARY:Places VR
DESCRIPTION:  \nVisit us at the Places VR Festival in Gellsinkirchen. \nGelsenkirchen became a place of innovations for 3 days. With a Volucap pop-up store in the city center\, new technologies such as Mixed Reality were made tangible as part of the Places VR Festival. \nVolucap presented new technlogies like Tagesschau 2025 over 3 days in the popup store.With its technology\, Volucap has already completely digitized the Tagesthemen. Here you can see what it looks like when newscasters are standing directly in the living room instead of on the TV screen in the studio. \nVisit us at Atelier 109\, Bochumer Str. 108 45886 Gelsenkirchen\, Germany \n 
URL:https://volucap.com/event/places-vr/
LOCATION:Gelsenkirchen\, Bochumer Str. 108\, 45886 Gelsenkirchen\, Germany
CATEGORIES:Festival,Talk,Trips,Workshop
ATTACH;FMTTYPE=image/jpeg:https://volucap.com/wp-content/uploads/2023/09/places_vr.jpg
END:VEVENT
END:VCALENDAR