BEGIN:VCALENDAR
VERSION:2.0
PRODID:-//Volucap - ECPv6.15.20//NONSGML v1.0//EN
CALSCALE:GREGORIAN
METHOD:PUBLISH
X-WR-CALNAME:Volucap
X-ORIGINAL-URL:https://volucap.com
X-WR-CALDESC:Events for Volucap
REFRESH-INTERVAL;VALUE=DURATION:PT1H
X-Robots-Tag:noindex
X-PUBLISHED-TTL:PT1H
BEGIN:VTIMEZONE
TZID:UTC
BEGIN:STANDARD
TZOFFSETFROM:+0000
TZOFFSETTO:+0000
TZNAME:UTC
DTSTART:20180101T000000
END:STANDARD
END:VTIMEZONE
BEGIN:VTIMEZONE
TZID:America/Los_Angeles
BEGIN:DAYLIGHT
TZOFFSETFROM:-0800
TZOFFSETTO:-0700
TZNAME:PDT
DTSTART:20180311T100000
END:DAYLIGHT
BEGIN:STANDARD
TZOFFSETFROM:-0700
TZOFFSETTO:-0800
TZNAME:PST
DTSTART:20181104T090000
END:STANDARD
BEGIN:DAYLIGHT
TZOFFSETFROM:-0800
TZOFFSETTO:-0700
TZNAME:PDT
DTSTART:20190310T100000
END:DAYLIGHT
BEGIN:STANDARD
TZOFFSETFROM:-0700
TZOFFSETTO:-0800
TZNAME:PST
DTSTART:20191103T090000
END:STANDARD
BEGIN:DAYLIGHT
TZOFFSETFROM:-0800
TZOFFSETTO:-0700
TZNAME:PDT
DTSTART:20200308T100000
END:DAYLIGHT
BEGIN:STANDARD
TZOFFSETFROM:-0700
TZOFFSETTO:-0800
TZNAME:PST
DTSTART:20201101T090000
END:STANDARD
END:VTIMEZONE
BEGIN:VEVENT
DTSTART;VALUE=DATE:20190406
DTEND;VALUE=DATE:20190412
DTSTAMP:20260423T140336
CREATED:20190225T101134Z
LAST-MODIFIED:20210810T093913Z
UID:1066-1554508800-1555027199@volucap.com
SUMMARY:NAB Show 2019
DESCRIPTION:Together with the Fraunhofer institut\, Volucap will present volumetric recording technology at the NAB Show this year. \nVolumetric recording technology is a novel and uniquely integrated 360-degree multi-camera capture and lighting system for the creation of highly realistic volumetric video content of moving persons. A set of 16 stereo cameras create 3D information from all different viewpoints around the person. This 3D information is then fused and transformed into a consistent\, natural and dynamic 3D representation of the person. The automatically computed sequence of meshes can be integrated in VR and AR applications. The capture system supports diffuse lighting from any direction\, which offers best possible conditions for re-lighting of the dynamic 3D models\, afterwards\, at design stage of the virtual reality experience.
URL:https://volucap.com/event/nab-show-2019/
LOCATION:NAB Show\, NAB Show\, 3150 Paradise Rd\, Las vegas\, NV\, 89109\, United States
CATEGORIES:Conference,Convention
ATTACH;FMTTYPE=image/jpeg:https://volucap.com/wp-content/uploads/2023/09/nab.jpg
ORGANIZER;CN="Fraunhofer Heinrich Hertz Institute":MAILTO:kathleen.schroeter@hhi.fraunhofer.de
END:VEVENT
BEGIN:VEVENT
DTSTART;TZID=America/Los_Angeles:20190407T095500
DTEND;TZID=America/Los_Angeles:20190407T223000
DTSTAMP:20260423T140336
CREATED:20190403T055724Z
LAST-MODIFIED:20210810T093912Z
UID:1181-1554630900-1554676200@volucap.com
SUMMARY:Our Digital Selves in a Post-Reality Era
DESCRIPTION:In 2016\, a dead man acted in a Star Wars film. Peter Cushing\, passed away in 1994 but a CG likeness of him was painstakingly recreated from individual frames to perform his scenes in Rogue One. Today\, it is common place to scan important actors at various stages of the filmmaking process\, this is both to aid VFX and also in case something were to change the actors’ appearance (ie. mortality\, or a moustache). But what happens to these assets when we die? Can actor’s continue to perform posthumously? Who owns our digital likenesses? The Studio? The film? What happens if they become public domain?
URL:https://volucap.com/event/our-digital-selves-in-a-post-reality-era/
LOCATION:NAB Show\, NAB Show\, 3150 Paradise Rd\, Las vegas\, NV\, 89109\, United States
CATEGORIES:Panel
ATTACH;FMTTYPE=image/jpeg:https://volucap.com/wp-content/uploads/2023/09/nab.jpg
ORGANIZER;CN="Volucap GmbH":MAILTO:mail@volucap.shagren.xyz
END:VEVENT
END:VCALENDAR