BEGIN:VCALENDAR
VERSION:2.0
PRODID:-//Volucap - ECPv6.15.20//NONSGML v1.0//EN
CALSCALE:GREGORIAN
METHOD:PUBLISH
X-ORIGINAL-URL:https://volucap.com
X-WR-CALDESC:Events for Volucap
REFRESH-INTERVAL;VALUE=DURATION:PT1H
X-Robots-Tag:noindex
X-PUBLISHED-TTL:PT1H
BEGIN:VTIMEZONE
TZID:UTC
BEGIN:STANDARD
TZOFFSETFROM:+0000
TZOFFSETTO:+0000
TZNAME:UTC
DTSTART:20180101T000000
END:STANDARD
END:VTIMEZONE
BEGIN:VEVENT
DTSTART;VALUE=DATE:20190502
DTEND;VALUE=DATE:20190504
DTSTAMP:20260423T141420
CREATED:20190301T122957Z
LAST-MODIFIED:20210810T093913Z
UID:1171-1556755200-1556927999@volucap.com
SUMMARY:The World Tourism Forum Lucerne
DESCRIPTION:The World Tourism Forum Lucerne is the only tourism platform where international top-level decision makers from industry\, government\, academia and finance collaborate on future challenges together with tomorrow’s generation. \nFounded in 2008\, the Forum has developed continuously and has built up a worldwide network of personal relationships. We cordially invite you to join this exceptional platform with a focus on an open-minded and future-oriented exchange across industries and generations. (Source\, 01.03.2018)
URL:https://volucap.com/event/1171/
LOCATION:World Tourism Forum Lucerne\, Zentralstrasse 9\, Lucerne\, 6002\, Switzerland
ATTACH;FMTTYPE=image/png:https://volucap.com/wp-content/uploads/2023/09/The-World-Tourism-Forum-Lucerne-Logo.png
ORGANIZER;CN="World Tourism Forum Luzern":MAILTO:info@wtflucerne.org
END:VEVENT
BEGIN:VEVENT
DTSTART;VALUE=DATE:20190506
DTEND;VALUE=DATE:20190509
DTSTAMP:20260423T141420
CREATED:20190301T124616Z
LAST-MODIFIED:20210810T093912Z
UID:1177-1557100800-1557359999@volucap.com
SUMMARY:Media Convention Berlin
DESCRIPTION:MEDIA CONVENTION Berlin (MCB) will take place for the sixth time in cooperation with re:publica from 6 to 8 May 2019 at STATION BERLIN. As one of Europe’s leading media congresses\, #MCB19 raises critical questions\, provides impulses and promotes lively discussion. The guiding theme “Playing for Keeps” points to the enormous economic and societal changes brought about by digitalisation. It is time to act\, since digitalisation is happening right now and not in a distant future. (Source\, 01.03.2019)
URL:https://volucap.com/event/media-convention-berlin/
LOCATION:STATION Berlin\, Luckenwalder Str. 4-6\, Berlin\, BERLIN\, 10963\, Germany
CATEGORIES:Conference,Panel
ATTACH;FMTTYPE=image/png:https://volucap.com/wp-content/uploads/2023/09/mcb19_news_en_0.png
ORGANIZER;CN="Medienboard Berlin-Brandenburg GmbH":MAILTO:info@medienboard.de
END:VEVENT
BEGIN:VEVENT
DTSTART;VALUE=DATE:20190518
DTEND;VALUE=DATE:20190519
DTSTAMP:20260423T141420
CREATED:20190423T173141Z
LAST-MODIFIED:20210810T093912Z
UID:1189-1558137600-1558223999@volucap.com
SUMMARY:VOLUMETRIC CAPTURE AND IMAGING
DESCRIPTION:Ticket registration \nChaired by Jacques Verly (Stereopsia & XR4ALL\, Belgium) \nPRESENTATIONS > 4:30PM-5:30PM\n\nVolumetric imaging: a new priority for Hollywood studios\, Jim Chabin (Advanced Imaging Society\, USA)\nFly-over of latest volumetric imaging technologies\, Matthieu Labeau (Nozon\, Starbreeze\, Belgium)\nVolumetric imaging systems at Fraunhofer & Volucap\, Ralf Schäfer (Fraunhofer Institute\, HHI\, & XR4ALL\, Germany)\nHumanizing digital experiences\, Richard Broadbridge (4DViews\, France)\n“7 Miracles”\, a movie both 360° & volumetric\, premiered at Raindance 2018\, Rodrigo Cerqueira (Panogramma\, USA)\n\nPresentations followed by a panel discussion.\nThe workshop is followed by a free cocktail networking session. \nCOCKTAIL > 5:30PM-6:30PM\nThe organizers reserve the right to make changes to the program at any time. Stay tuned for possible updates. \n 
URL:https://volucap.com/event/volumetric-capture-and-imaging/
LOCATION:Palais des Festivals of Cannes\, Palais des Festivals of Cannes\, 1 Boulevard de la Croisette\, Cannes\, F-06400\, France
CATEGORIES:Workshop
ATTACH;FMTTYPE=image/jpeg:https://volucap.com/wp-content/uploads/2023/09/cannesXR.jpg
ORGANIZER;CN="XR4ALL":MAILTO:contact@xr4all.eu
END:VEVENT
BEGIN:VEVENT
DTSTART;VALUE=DATE:20190519
DTEND;VALUE=DATE:20190521
DTSTAMP:20260423T141420
CREATED:20190423T171514Z
LAST-MODIFIED:20210810T093912Z
UID:1185-1558224000-1558396799@volucap.com
SUMMARY:Ostdeutsches Wirtschaftsforum 2019
DESCRIPTION:ZEITENWENDE\nis the topic of this year’s OWF.ZUKUNFT – the East German Economic Forum – on 20./21. May 2019 in Bad Saarow.\nThe fall of the wall marks the 30th anniversary of 2019. The turnaround that gave birth to the new federal states and a united Berlin has been completed. The process of alignment between East and West has been stagnating for years. However\, megatrends\, which\, after 30 years of German unity\, pose new challenges for the new federal states as well as for all of Germany.\n• The digital transformation affects all areas of life.\n• The global economy loses its proven multilateral rules of the game.\n• Climate change shifts priorities.\nHere are the chances for the East German economy to gain a head start. \nThe Initiative Wirtschaft.Wachstum.Zukunft\,\nwhich unites the partners of OWF.ZUKUNFT\, is therefore dedicated to the future prospects of the East German economy with new ideas for the agenda of politics and business. The initiative is a network for all strategically interested parties. \nhttps://wirtschaft-markt.de/owf-2019/
URL:https://volucap.com/event/ostdeutsches-wirtschaftsforum-2019/
LOCATION:Bad Saarow\, Bad Saarow\, Germany
CATEGORIES:Forum
ATTACH;FMTTYPE=image/jpeg:https://volucap.com/wp-content/uploads/2023/09/OFW.jpg
ORGANIZER;CN="Volucap GmbH":MAILTO:mail@volucap.shagren.xyz
END:VEVENT
END:VCALENDAR