BEGIN:VCALENDAR
VERSION:2.0
PRODID:-//Volucap - ECPv6.15.20//NONSGML v1.0//EN
CALSCALE:GREGORIAN
METHOD:PUBLISH
X-WR-CALNAME:Volucap
X-ORIGINAL-URL:https://volucap.com
X-WR-CALDESC:Events for Volucap
REFRESH-INTERVAL;VALUE=DURATION:PT1H
X-Robots-Tag:noindex
X-PUBLISHED-TTL:PT1H
BEGIN:VTIMEZONE
TZID:UTC
BEGIN:STANDARD
TZOFFSETFROM:+0000
TZOFFSETTO:+0000
TZNAME:UTC
DTSTART:20180101T000000
END:STANDARD
END:VTIMEZONE
BEGIN:VEVENT
DTSTART;TZID=UTC:20190612T183000
DTEND;TZID=UTC:20190612T220000
DTSTAMP:20260423T105932
CREATED:20190606T085708Z
LAST-MODIFIED:20210810T093911Z
UID:1214-1560364200-1560376800@volucap.com
SUMMARY:medientreff 2019
DESCRIPTION:On June 12\, the media and digital industries will meet in the heart of the MediaTech Hub Potsdam and media.connect brandenburg invites you! The medientreff offers actors\, decision-makers and multipliers of the media locations of Brandenburg and Berlin a special kind of networking evening. At the media meeting you will have the opportunity to make new business contacts and cultivate existing contacts. \nThe Volucap will open its doors to the media meeting and offer tours of the volumetric studio
URL:https://volucap.com/event/medientreff-2019/
LOCATION:fx.Center Babelsberg\, fx.center\, Quentin-Tarantino-Straße\, Potsdam\, Potsdam\, 14482\, Germany
CATEGORIES:Conference
ATTACH;FMTTYPE=image/png:https://volucap.com/wp-content/uploads/2023/09/Medientreff19-1.png
ORGANIZER;CN="media%3Anet":MAILTO:nadine.pahl@medianet-bb.de
END:VEVENT
BEGIN:VEVENT
DTSTART;VALUE=DATE:20190625
DTEND;VALUE=DATE:20190627
DTSTAMP:20260423T105932
CREATED:20190428T160313Z
LAST-MODIFIED:20210810T093912Z
UID:1199-1561420800-1561593599@volucap.com
SUMMARY:Next Reality?
DESCRIPTION:The first hype about immersive media\, like VR\, AR\, MR and 360 °\, seems \nand in the broadcasting sector you are still far from a\nsenphänomen away. Regardless of this cycle drives the vision \nfrom immersing into virtual and advanced worlds great investments\nin the creation of content and playback devices.\nInternet and IT companies\, studios\, games industry are very active \nMarketing areas and hardware manufacturers. In the wake of these developments\,\nthere are always new options for the broadcasting and media environment\, \nTo tell stories anew\, barrier-free access to\ncreate and involve the viewer in the experience extensively.\nDuring the symposium\, experts will discuss the stand\nin immersive media for broadcasting applications and the potential of this \nreport promising technology. Findings from new products\nIt will also illuminate the topics as well as future approaches to \nimmersive recording and playback technologies.
URL:https://volucap.com/event/next-reality/
LOCATION:rbb Berlin\, rbb\, Masurenallee 8–14\, Berlin\, Berlin\, 14057\, Germany
ATTACH;FMTTYPE=image/jpeg:https://volucap.com/wp-content/uploads/2023/09/screenshot.180.jpg
END:VEVENT
BEGIN:VEVENT
DTSTART;TZID=UTC:20190626T093000
DTEND;TZID=UTC:20190627T180000
DTSTAMP:20260423T105932
CREATED:20190603T065142Z
LAST-MODIFIED:20210810T093911Z
UID:1211-1561541400-1561658400@volucap.com
SUMMARY:International Broadcast Day 2019
DESCRIPTION:VR and AR content production for HD and beyond broadcast workflows –\nbusiness potentials\, case studies and future trends. \nARRI\, in cooperation with the Volumetric studio “Volucap”\, invites to the International Broadcast Day 2019. \nPersonal Invitation only.
URL:https://volucap.com/event/international-broadcast-day-2019/
LOCATION:Volucap\, Volucap\, August-Bebel-Str. 26-53\, Potsdam\, Potsdam\, 14482\, Germany
CATEGORIES:Conference
ATTACH;FMTTYPE=image/jpeg:https://volucap.com/wp-content/uploads/2023/09/IER2746_web.jpg
ORGANIZER;CN="Volucap GmbH":MAILTO:mail@volucap.shagren.xyz
END:VEVENT
END:VCALENDAR