BEGIN:VCALENDAR
VERSION:2.0
PRODID:-//Volucap - ECPv6.15.20//NONSGML v1.0//EN
CALSCALE:GREGORIAN
METHOD:PUBLISH
X-ORIGINAL-URL:https://volucap.com
X-WR-CALDESC:Events for Volucap
REFRESH-INTERVAL;VALUE=DURATION:PT1H
X-Robots-Tag:noindex
X-PUBLISHED-TTL:PT1H
BEGIN:VTIMEZONE
TZID:UTC
BEGIN:STANDARD
TZOFFSETFROM:+0000
TZOFFSETTO:+0000
TZNAME:UTC
DTSTART:20190101T000000
END:STANDARD
END:VTIMEZONE
BEGIN:VEVENT
DTSTART;VALUE=DATE:20200116
DTEND;VALUE=DATE:20200118
DTSTAMP:20260423T010532
CREATED:20200220T135040Z
LAST-MODIFIED:20210810T093909Z
UID:1850-1579132800-1579305599@volucap.com
SUMMARY:Aurea Award 2019
DESCRIPTION:An international gathering for VR & AR pioneers\n\n\n\n\nThe booming Augmented and Virtual Reality sector is revolutionizing entertainment as we know it. New innovations are changing how users interact with stories\, their environments and even each other. \nBringing together the best\nEstablished in 2018\, the AUREA Award brings together global technology and entertainment leaders to honor the best products and experiences in this next wave of mass media. \nCelebrating the growing VR & AR ecosystem\nBy showcasing and awarding state of the art experiences\, AUREA shows where the industry is headed and helps its community to flourish. \nMaking valuable connections\nAUREA invites all stakeholders from the broader Entertainment sector\, be it startups\, investors\, creatives or corporates\, to get involved.
URL:https://volucap.com/event/aurea-award-2019/
LOCATION:Europa-Park\, Europa-Park-Straße 2\, Rust\, Baden-Württemberg\, 77977\, Germany
CATEGORIES:Convention
ATTACH;FMTTYPE=image/png:https://volucap.com/wp-content/uploads/2023/09/Winner-aurea-award.png
ORGANIZER;CN="MackMedia GmbH & Co. KG":MAILTO:info@mackmedia.de
END:VEVENT
END:VCALENDAR