BEGIN:VCALENDAR
VERSION:2.0
PRODID:-//Volucap - ECPv6.15.20//NONSGML v1.0//EN
CALSCALE:GREGORIAN
METHOD:PUBLISH
X-ORIGINAL-URL:https://volucap.com
X-WR-CALDESC:Events for Volucap
REFRESH-INTERVAL;VALUE=DURATION:PT1H
X-Robots-Tag:noindex
X-PUBLISHED-TTL:PT1H
BEGIN:VTIMEZONE
TZID:UTC
BEGIN:STANDARD
TZOFFSETFROM:+0000
TZOFFSETTO:+0000
TZNAME:UTC
DTSTART:20190101T000000
END:STANDARD
END:VTIMEZONE
BEGIN:VEVENT
DTSTART;VALUE=DATE:20201107
DTEND;VALUE=DATE:20201110
DTSTAMP:20260422T095229
CREATED:20200220T110725Z
LAST-MODIFIED:20210810T093909Z
UID:1829-1604707200-1604966399@volucap.com
SUMMARY:Infinity Festival
DESCRIPTION:THE PREMIERE FESTIVAL FOR HOLLYWOOD & SILICON VALLEY\nAt Infinity Festival\, the leading Silicon Valley innovators come together with Hollywood’s storytelling professionals to take over one city block in the heart of Hollywood to celebrate “Story Advanced by Technology!” This year’s event will focus on 4 Key Technologies: 5G\, Artificial Intelligence\, Blockchain and Immersive. Attendance at this exclusive event is limited.
URL:https://volucap.com/event/infinity-festival/
LOCATION:GOYA STUDIOS\, 1541 N Cahuenga Blvd Hollywood\, CA 90028\, Los Angeles\, CA\, 90028\, United States
CATEGORIES:Expo,Festival
ATTACH;FMTTYPE=image/jpeg:https://volucap.com/wp-content/uploads/2023/09/maxresdefault-2.jpg
ORGANIZER;CN="infinityfestival":MAILTO:mail@infinityfestival.com
END:VEVENT
BEGIN:VEVENT
DTSTART;VALUE=DATE:20201111
DTEND;VALUE=DATE:20201113
DTSTAMP:20260422T095229
CREATED:20201209T092407Z
LAST-MODIFIED:20210810T093904Z
UID:6808-1605052800-1605225599@volucap.com
SUMMARY:mth - Mediatech Hub Conference
DESCRIPTION:MediaTech Hub Conference is the only B2B event on media technologies in Germany. Referring to every video- or audio-related technology and business in a digital world\, MediaTech is rapidly changing the way we live and work. At MTH Conference we explore the potential\, practices and challenges of MediaTech in the context of business and entertainment. We combine know-how from all industries so that our participants can use today’s media technologies to make their business future-proof. \nMore than ever before\, the last few months have shown us what digital video and audio technologies have to offer for re-adjusting to a “new normal”. We are thus even more delighted that the MediaTech Hub Conference will take place this year on November 11-12 – and for the first time in a hybrid format!
URL:https://volucap.com/event/mth-mediatech-hub-conference/
LOCATION:fx.Center Babelsberg\, fx.center\, Quentin-Tarantino-Straße\, Potsdam\, Potsdam\, 14482\, Germany
ATTACH;FMTTYPE=image/png:https://volucap.com/wp-content/uploads/2023/09/mediatech-hub-potsdam-logo.png
ORGANIZER;CN="Medienboard Berlin-Brandenburg GmbH":MAILTO:info@medienboard.de
END:VEVENT
END:VCALENDAR