BEGIN:VCALENDAR
VERSION:2.0
PRODID:-//Volucap - ECPv6.15.20//NONSGML v1.0//EN
CALSCALE:GREGORIAN
METHOD:PUBLISH
X-WR-CALNAME:Volucap
X-ORIGINAL-URL:https://volucap.com
X-WR-CALDESC:Events for Volucap
REFRESH-INTERVAL;VALUE=DURATION:PT1H
X-Robots-Tag:noindex
X-PUBLISHED-TTL:PT1H
BEGIN:VTIMEZONE
TZID:UTC
BEGIN:STANDARD
TZOFFSETFROM:+0000
TZOFFSETTO:+0000
TZNAME:UTC
DTSTART:20210101T000000
END:STANDARD
END:VTIMEZONE
BEGIN:VEVENT
DTSTART;VALUE=DATE:20220602
DTEND;VALUE=DATE:20220603
DTSTAMP:20260421T042353
CREATED:20220516T071750Z
LAST-MODIFIED:20220516T071750Z
UID:12206-1654128000-1654214399@volucap.com
SUMMARY:c-tv-Konferenz 2022 - Virtual Production for the Films of Tomorrow
DESCRIPTION:This year’s c-tv conference at St. Pölten University of Applied Sciences is dedicated to the topic of virtual production. International experts will present the latest trends in moving image production. \nFrom virtual scouting and set design to real-time on-set visual effects\, virtual production\, a relatively new and rapidly evolving area of the film and TV industry\, has the potential to transform the industry. \n“Virtual production” is an umbrella term used to describe the production of content using a combination of computer-generated imagery (CGI)\, game engines and virtual reality technologies. The inclusion of high-resolution LED screens and the covid pandemic as drivers have given the new production method a major boost\,” says Rosa von Suess\, head of educational television c-tv at the University of Applied Sciences St. Pölten and organizer of the c-tv conference. \nNew way of working for the core disciplines of the film industry \nSince the virtual production of\, for example\, the hit movie “The Mandalorian” from the Star Wars universe by Lucasfilm\, the new ways of film and TV production have become more widely known and their efficiency has been proven. Virtual Production (VP) impacts many core disciplines of filmmaking\, from camera work to production design\, visual effects\, animation\, directing\, and production planning. \nInternational speakers \nAt the c-tv conference\, participants can expect keynotes\, discourses and best practice examples from and with experts from the film and TV industry. \nGuests include: \nLisa Gray\, award-winning executive producer\, pioneer in innovation and VP-producer at MARS Volume\, one of the largest VP studios in the UK\, \nSven Bliedung von der Heide\, director of Volumetric Studio Volucap\, the first commercial volumetric studio in Germany; his credits include projects such as “Matrix Resurrections\,” “Marvel’s The Avengers” and “Cloud Atlas.” \nfrom Switzerland\, director Alex Martin reports on the concept of multi-language drama series with VP and \nAustrian expertise on virtual production comes from representatives of AV Stumpfl\, Lichtermacher and Media Apparat. \nStudents from St. Pölten University of Applied Sciences will present format ideas for TV\, over-the-top content (OTT) and mobile in a pitching session. A five-hour program of short feature films and short documentaries will showcase the latest student films. \nMasterclasses will be held at the conference in cooperation with the WKO Film and Music Industry Lower Austria: The focus will be on relevant industry topics and students of the master’s program in Digital Media Technologies will exchange ideas with industry experts. Finally\, there will be a get-together with a DJ line-up. \n 
URL:https://volucap.com/event/c-tv-konferenz-2022-virtual-production-for-the-films-of-tomorrow/
LOCATION:Campus St. Pölten
CATEGORIES:Talk
ATTACH;FMTTYPE=image/jpeg:https://volucap.com/wp-content/uploads/2023/09/Download.jpg
END:VEVENT
BEGIN:VEVENT
DTSTART;VALUE=DATE:20220612
DTEND;VALUE=DATE:20220615
DTSTAMP:20260421T042353
CREATED:20220608T122912Z
LAST-MODIFIED:20220608T122912Z
UID:12538-1654992000-1655251199@volucap.com
SUMMARY:Ostdeutsches Wirtschaftsforum 2022 | OWF22
DESCRIPTION:The East German Business Forum (OWF) has been the leading business conference in eastern Germany since 2016 and makes successful transformation processes visible. Together with thought leaders* and doers from business\, politics\, science and society\, the initiative contributes to courageously seizing the opportunities of transformation and thus to sustainably shaping change processes. Eastern Germany is the symbol of successful transformation and home of the OWF. \nAt the OWF’s annual lighthouse event in Bad Saarow\, relevant players come together to identify opportunities\, name challenges\, share knowledge\, initiate collaborations and create new ideas and solutions as the key to successful structural change. In short: The best global ideas for successful transformation are to be exchanged. \nOWF22 will take place in Bad Saarow from June 12-14\, 2022. More information can be found here.
URL:https://volucap.com/event/ostdeutsches-wirtschaftsforum-2022-owf22/
LOCATION:Bad Saarow\, Bad Saarow\, Germany
CATEGORIES:Forum
ATTACH;FMTTYPE=image/png:https://volucap.com/wp-content/uploads/2023/09/OWF2022_start_2560x620-1536x372-1.png
END:VEVENT
BEGIN:VEVENT
DTSTART;VALUE=DATE:20220615
DTEND;VALUE=DATE:20220619
DTSTAMP:20260421T042353
CREATED:20220510T135357Z
LAST-MODIFIED:20220510T135357Z
UID:12101-1655251200-1655596799@volucap.com
SUMMARY:VIVA Technology | Europe’s biggest startup and tech event
DESCRIPTION:Volucap will show its technology on site and give various presentations. Save this page and stay up to date.
URL:https://volucap.com/event/viva-technology-europes-biggest-startup-and-tech-event/
LOCATION:Paris Expo Porte de Versailles\, 1 Place de la Porte de Versailles\, Paris\, F-75015\, France
CATEGORIES:Talk
ATTACH;FMTTYPE=image/jpeg:https://volucap.com/wp-content/uploads/2023/09/Vivatech_2022_Logo.jpg
END:VEVENT
END:VCALENDAR