BEGIN:VCALENDAR
VERSION:2.0
PRODID:-//Volucap - ECPv6.15.20//NONSGML v1.0//EN
CALSCALE:GREGORIAN
METHOD:PUBLISH
X-WR-CALNAME:Volucap
X-ORIGINAL-URL:https://volucap.com
X-WR-CALDESC:Events for Volucap
REFRESH-INTERVAL;VALUE=DURATION:PT1H
X-Robots-Tag:noindex
X-PUBLISHED-TTL:PT1H
BEGIN:VTIMEZONE
TZID:Europe/Helsinki
BEGIN:DAYLIGHT
TZOFFSETFROM:+0200
TZOFFSETTO:+0300
TZNAME:EEST
DTSTART:20220327T010000
END:DAYLIGHT
BEGIN:STANDARD
TZOFFSETFROM:+0300
TZOFFSETTO:+0200
TZNAME:EET
DTSTART:20221030T010000
END:STANDARD
BEGIN:DAYLIGHT
TZOFFSETFROM:+0200
TZOFFSETTO:+0300
TZNAME:EEST
DTSTART:20230326T010000
END:DAYLIGHT
BEGIN:STANDARD
TZOFFSETFROM:+0300
TZOFFSETTO:+0200
TZNAME:EET
DTSTART:20231029T010000
END:STANDARD
BEGIN:DAYLIGHT
TZOFFSETFROM:+0200
TZOFFSETTO:+0300
TZNAME:EEST
DTSTART:20240331T010000
END:DAYLIGHT
BEGIN:STANDARD
TZOFFSETFROM:+0300
TZOFFSETTO:+0200
TZNAME:EET
DTSTART:20241027T010000
END:STANDARD
END:VTIMEZONE
BEGIN:VEVENT
DTSTART;VALUE=DATE:20230614
DTEND;VALUE=DATE:20230617
DTSTAMP:20260420T094112
CREATED:20230517T145942Z
LAST-MODIFIED:20230614T083206Z
UID:16582-1686700800-1686959999@volucap.com
SUMMARY:VivaTech 2023
DESCRIPTION:We are thrilled to announce that this year\, we will be participating in VivaTech\, partnering with Orange. This is a much-anticipated event where we’ll be releasing something incredibly exciting and innovative! \nIt’s an opportunity you won’t want to miss as we push the boundaries of technology further. So\, come join us\, let’s connect\, explore\, and immerse ourselves in the future of tech! \n  \nWe are happy to join Orange in showcasing our cutting-edge volumetric capture technology via our augmented sport – BMX application. This revolutionary technology brings the precision and speed of technical sports like BMX to life in a whole new way. \nOur partnership with nine-time BMX Flatland world champion\, Matthias Dandois\, has allowed us to create a 360° experience of his world-class performance in the world-leading quality by using our new Volucap Studio 2.0. Captured in 4K quality using 48 cameras at our state-of-the-art studio\, we offer fans a chance to dissect and interact with every detail of his stunts. \nAt the Orange booth\, we invite fans to step into the future of sports training and spectatorship. Viewers can immerse themselves in the scenes\, alter playback speed\, and change viewing angles\, transforming passive viewers into active participants. \nJoin us at the Orange booth for a glimpse into the future of sports viewing and training\, thanks to Volucap’s groundbreaking volumetric capture technology. \n  \nSee you there! \n  \nFor meetings contact pr@volucap.de
URL:https://volucap.com/event/vivatech-2023/
LOCATION:Paris Expo Porte de Versailles Hall 1\, Paris\, 75015\, France
CATEGORIES:Conference,Expo
ATTACH;FMTTYPE=image/jpeg:https://volucap.com/wp-content/uploads/2023/09/vivatech.jpg
END:VEVENT
END:VCALENDAR