BEGIN:VCALENDAR
VERSION:2.0
PRODID:-//Volucap - ECPv6.15.20//NONSGML v1.0//EN
CALSCALE:GREGORIAN
METHOD:PUBLISH
X-WR-CALNAME:Volucap
X-ORIGINAL-URL:https://volucap.com
X-WR-CALDESC:Events for Volucap
REFRESH-INTERVAL;VALUE=DURATION:PT1H
X-Robots-Tag:noindex
X-PUBLISHED-TTL:PT1H
BEGIN:VTIMEZONE
TZID:Europe/Berlin
BEGIN:DAYLIGHT
TZOFFSETFROM:+0100
TZOFFSETTO:+0200
TZNAME:CEST
DTSTART:20220327T010000
END:DAYLIGHT
BEGIN:STANDARD
TZOFFSETFROM:+0200
TZOFFSETTO:+0100
TZNAME:CET
DTSTART:20221030T010000
END:STANDARD
BEGIN:DAYLIGHT
TZOFFSETFROM:+0100
TZOFFSETTO:+0200
TZNAME:CEST
DTSTART:20230326T010000
END:DAYLIGHT
BEGIN:STANDARD
TZOFFSETFROM:+0200
TZOFFSETTO:+0100
TZNAME:CET
DTSTART:20231029T010000
END:STANDARD
BEGIN:DAYLIGHT
TZOFFSETFROM:+0100
TZOFFSETTO:+0200
TZNAME:CEST
DTSTART:20240331T010000
END:DAYLIGHT
BEGIN:STANDARD
TZOFFSETFROM:+0200
TZOFFSETTO:+0100
TZNAME:CET
DTSTART:20241027T010000
END:STANDARD
END:VTIMEZONE
BEGIN:VEVENT
DTSTART;VALUE=DATE:20231213
DTEND;VALUE=DATE:20231214
DTSTAMP:20260420T003916
CREATED:20231212T142759Z
LAST-MODIFIED:20231212T142759Z
UID:18102-1702425600-1702511999@volucap.com
SUMMARY:Culture and Creative Industries in the Age of AI
DESCRIPTION:AI’s Swift Impact on Culture and Creative Industries \nThe rapid evolution of Artificial Intelligence (AI) is leaving a notable mark across all sectors of society\, including the culture and creative industries. This period of change opens doors to innovation but also presents significant challenges. The event ‘Culture and Creative Industries in the Age of AI’ aims to provide a platform for insights and discussions on AI’s impact on creative professions. \nThe afternoon session will feature exciting contributions\, including a segment on AI and media by Sven Bliedung von der Heide of Volucap! In his presentation\, he will discuss the role of AI in the modern media and film industry and its significant impact at Volucap. \n\n 
URL:https://volucap.com/event/culture-and-creative-industries-in-the-age-of-ai/
LOCATION:Haus der Brandenburgisch Preußischen Geschichte\, Potsdam\, Brandenburg\, Germany
CATEGORIES:Conference,Talk
ATTACH;FMTTYPE=image/png:https://volucap.com/wp-content/uploads/2023/12/KI-Kreativitaet_-Eventbrite-4-2048x1024-1.png
END:VEVENT
END:VCALENDAR