BEGIN:VCALENDAR
VERSION:2.0
PRODID:-//Volucap - ECPv6.15.20//NONSGML v1.0//EN
CALSCALE:GREGORIAN
METHOD:PUBLISH
X-ORIGINAL-URL:https://volucap.com
X-WR-CALDESC:Events for Volucap
REFRESH-INTERVAL;VALUE=DURATION:PT1H
X-Robots-Tag:noindex
X-PUBLISHED-TTL:PT1H
BEGIN:VTIMEZONE
TZID:Europe/Berlin
BEGIN:DAYLIGHT
TZOFFSETFROM:+0100
TZOFFSETTO:+0200
TZNAME:CEST
DTSTART:20230326T010000
END:DAYLIGHT
BEGIN:STANDARD
TZOFFSETFROM:+0200
TZOFFSETTO:+0100
TZNAME:CET
DTSTART:20231029T010000
END:STANDARD
BEGIN:DAYLIGHT
TZOFFSETFROM:+0100
TZOFFSETTO:+0200
TZNAME:CEST
DTSTART:20240331T010000
END:DAYLIGHT
BEGIN:STANDARD
TZOFFSETFROM:+0200
TZOFFSETTO:+0100
TZNAME:CET
DTSTART:20241027T010000
END:STANDARD
BEGIN:DAYLIGHT
TZOFFSETFROM:+0100
TZOFFSETTO:+0200
TZNAME:CEST
DTSTART:20250330T010000
END:DAYLIGHT
BEGIN:STANDARD
TZOFFSETFROM:+0200
TZOFFSETTO:+0100
TZNAME:CET
DTSTART:20251026T010000
END:STANDARD
END:VTIMEZONE
BEGIN:VEVENT
DTSTART;TZID=Europe/Berlin:20240220T093000
DTEND;TZID=Europe/Berlin:20240220T093000
DTSTAMP:20260419T211852
CREATED:20240214T125008Z
LAST-MODIFIED:20240604T121913Z
UID:18775-1708421400-1708421400@volucap.com
SUMMARY:PROdigitalTV Berlinale Media Breakfast
DESCRIPTION:Are you ready to explore the frontiers of the AI-driven media revolution? As part of the Berlinale\, join us for a Glimpse into the Future of Media with Sven Bliedung von der Heide\, CEO of Volucap! \nPROdigitalTV invites you to an exclusive Media Breakfast during the Berlinale\, a must-attend event for professionals in the media and film industry. \nIn a world where the lines between reality and digital illusion blur\, the media landscape stands on the brink of a new era. AI opens up unprecedented possibilities\, revolutionizing the foundation of the creative industry. In the keynote “Between Vision and Virtuosity: Pioneering Germany’s Path in the AI-Driven Media Revolution” Sven Bliedung von der Heide\, CEO of Volucap\, delves into the heart of this transformation\, highlighting the fascination and challenges AI brings to the media world. With examples that resonate on a deep level\, he will showcase how AI is not just changing the way stories are told but also how they are produced and experienced. \n📅 Date: February 20\, 2024\n📍 Place: Berlin\n⏰ Time: 09:30 – 15:00 AM \nDon’t miss this insightful event. Register for free now and take part in shaping the future of storytelling. \nSee you there! \n  \nFor meetings and inquiries\, please contact mail@volucap.de.
URL:https://volucap.com/event/prodigitaltv-berlinale-media-breakfast/
LOCATION:Kanzlei HEUSSEN Rechtsanwaltsgesellschaft mbH\, Kurfürstendamm 31\, Berlin\, 10719
CATEGORIES:Conference,Panel,Talk
ATTACH;FMTTYPE=image/png:https://volucap.com/wp-content/uploads/2024/02/prodigitaltv-volucap.png
END:VEVENT
BEGIN:VEVENT
DTSTART;TZID=Europe/Berlin:20240221T133000
DTEND;TZID=Europe/Berlin:20240221T133000
DTSTAMP:20260419T211852
CREATED:20240130T114337Z
LAST-MODIFIED:20240604T121756Z
UID:18608-1708522200-1708522200@volucap.com
SUMMARY:Friedrich Ebert Foundation x BFFS @ Berlinale 2024
DESCRIPTION:As part of Berlinale 2024\, a keynote presentation titled “Applications of AI in the Acting Industry” (DE) by Volucap’s CEO\, Sven Bliedung von der Heide\, will provide an overview of AI applications in the media\, with a focus on the actors’ field. He will showcase what is already achievable and discuss the future for actors who must compete with AI-generated performers. Sven will explain the current technological advancements in the industry and how actors can utilize them to stay competitive. \nFollowing the keynote\, Sven will participate in a panel discussion alongside Björn Böhning\, Managing Director of the Producers Alliance\, Mina Saidze\, AI and data expert\, Beka Bediana\, actor and board member of the Federal Association of Actors\, and Anna Kassautzki\, Member of the German Bundestag. Together\, they will delve into the current landscape of the industry. \nThe event is organized by the Friedrich Ebert Foundation in collaboration with the Federal Association of Acting (BFFS). \nWe look forward to engaging in an active discussion! \n  \nDate: 21.02.2024 \nTime: 14:30 – 15:00 \nLocation: Friedrich-Ebert-Stiftung\, Hiroshimastr. 7\, 10785 Berlin (Botschaftsviertel\, close to Potsdamer Platz) \n  \nFor meetings contact: mail@volucap.de \n  \nWatch the keynote here.
URL:https://volucap.com/event/volucap-at-berlinale/
LOCATION:Friedrich-Ebert-Stiftung\, Hiroshimastr. 7\, Berlin\, 10785\, Germany
CATEGORIES:Panel,Talk
ATTACH;FMTTYPE=image/jpeg:https://volucap.com/wp-content/uploads/2024/01/berlinale-volucap.jpeg
END:VEVENT
END:VCALENDAR