BEGIN:VCALENDAR
VERSION:2.0
PRODID:-//Volucap - ECPv6.15.20//NONSGML v1.0//EN
CALSCALE:GREGORIAN
METHOD:PUBLISH
X-ORIGINAL-URL:https://volucap.com
X-WR-CALDESC:Events for Volucap
REFRESH-INTERVAL;VALUE=DURATION:PT1H
X-Robots-Tag:noindex
X-PUBLISHED-TTL:PT1H
BEGIN:VTIMEZONE
TZID:Europe/Berlin
BEGIN:DAYLIGHT
TZOFFSETFROM:+0100
TZOFFSETTO:+0200
TZNAME:CEST
DTSTART:20230326T010000
END:DAYLIGHT
BEGIN:STANDARD
TZOFFSETFROM:+0200
TZOFFSETTO:+0100
TZNAME:CET
DTSTART:20231029T010000
END:STANDARD
BEGIN:DAYLIGHT
TZOFFSETFROM:+0100
TZOFFSETTO:+0200
TZNAME:CEST
DTSTART:20240331T010000
END:DAYLIGHT
BEGIN:STANDARD
TZOFFSETFROM:+0200
TZOFFSETTO:+0100
TZNAME:CET
DTSTART:20241027T010000
END:STANDARD
BEGIN:DAYLIGHT
TZOFFSETFROM:+0100
TZOFFSETTO:+0200
TZNAME:CEST
DTSTART:20250330T010000
END:DAYLIGHT
BEGIN:STANDARD
TZOFFSETFROM:+0200
TZOFFSETTO:+0100
TZNAME:CET
DTSTART:20251026T010000
END:STANDARD
END:VTIMEZONE
BEGIN:VTIMEZONE
TZID:Europe/Paris
BEGIN:DAYLIGHT
TZOFFSETFROM:+0100
TZOFFSETTO:+0200
TZNAME:CEST
DTSTART:20230326T010000
END:DAYLIGHT
BEGIN:STANDARD
TZOFFSETFROM:+0200
TZOFFSETTO:+0100
TZNAME:CET
DTSTART:20231029T010000
END:STANDARD
BEGIN:DAYLIGHT
TZOFFSETFROM:+0100
TZOFFSETTO:+0200
TZNAME:CEST
DTSTART:20240331T010000
END:DAYLIGHT
BEGIN:STANDARD
TZOFFSETFROM:+0200
TZOFFSETTO:+0100
TZNAME:CET
DTSTART:20241027T010000
END:STANDARD
BEGIN:DAYLIGHT
TZOFFSETFROM:+0100
TZOFFSETTO:+0200
TZNAME:CEST
DTSTART:20250330T010000
END:DAYLIGHT
BEGIN:STANDARD
TZOFFSETFROM:+0200
TZOFFSETTO:+0100
TZNAME:CET
DTSTART:20251026T010000
END:STANDARD
END:VTIMEZONE
BEGIN:VEVENT
DTSTART;VALUE=DATE:20240306
DTEND;VALUE=DATE:20240307
DTSTAMP:20260419T175459
CREATED:20240103T114944Z
LAST-MODIFIED:20240313T173338Z
UID:18399-1709683200-1709769599@volucap.com
SUMMARY:German Creative Economy Summit
DESCRIPTION:Dive into the heart of Germany’s creative sector at the German Creative Economy Summit\, an event that not only showcases but actively shapes the future of the €175.4 billion creative economy. \nThis summit is a pivotal gathering for creatives\, business leaders\, and policymakers to: \n\nShape the Future of the Creative Economy: Collaboratively designing what comes next in the creative sector.\nStrengthen Industry Identity: Amplifying the unique voices and characteristics of different creative industries.\nElevate Creative Work as an Economic Driver: Recognizing and promoting the economic significance of creative professions.\nDrive Creative Innovations: Pushing the boundaries of what’s possible through creative thinking and new technologies.\nBuild Unity and Leverage Synergies: Creating a platform for shared ideas and collaborative opportunities!\n\nOrganized by Hamburg Kreativ Gesellschaft\, this summit offers thought-provoking keynotes\, engaging panels\, and workshops on topics like Creative AI and sustainability.  \n\n  \nTHE PANEL: “AI as a Catalyst for Creativity in Film\, Media\, and Product Innovation” features Sven Bliedung von der Heide\, CEO of Volucap\, along with Heiko Burkardsmaier and Agalya Jebens. Together\, they share their know-how and showcase the state of modern technology\, focusing on the transformative power of Artificial Intelligence in the creative sector. \nThis session will explore how four pioneering creative companies are revolutionizing design with AI. Witness firsthand how AI is being harnessed to ‘dance’\, animate film imagery\, and breathe life into objects and vehicles with a creative twist. From visual effects to the development of groundbreaking products\, the panel will showcase AI as a dynamic partner in creative innovation. \nCurated and coordinated by the MFG Media and Film Society of Baden-Württemberg\, and backed by the Ministry of Economics\, Labor\, and Tourism of Baden-Württemberg\, this panel is a testament to the power of collaboration at the intersection of technology and creativity. \n  \nDATE: 06.03 \nPLACE: KAMPNAGEL\, Jarrestraße 20\, 22303 Hamburg \n  \nDon’t miss out! \n  \nFor meetings contact: mail@volucap.de
URL:https://volucap.com/event/volucap-at-creative-economy-summit-2024/
LOCATION:KAMPNAGEL\, Jarrestraße 20\, 22303 Hamburg\, Germany
CATEGORIES:Conference,Forum,Panel
ATTACH;FMTTYPE=image/jpeg:https://volucap.com/wp-content/uploads/2024/01/german-creative.economy-summit.jpg
END:VEVENT
BEGIN:VEVENT
DTSTART;VALUE=DATE:20240313
DTEND;VALUE=DATE:20240314
DTSTAMP:20260419T175459
CREATED:20240208T101145Z
LAST-MODIFIED:20240604T121617Z
UID:18677-1710288000-1710374399@volucap.com
SUMMARY:Expert Conference: Digital Twin Human In the Phases of Life
DESCRIPTION:Exploring the Horizon: Digital Twins and the Future of Human Avatars\n\n\n\n\n\n\n\n\n\n\n\n\nAt this conference\, experts come together to closely examine “digital twins for humans” across their life phases\, highlighting both the current and future potential for enhancements and innovations\, as well as discussing the possible consequences for the economy\, society\, and politics. Sven Bliedung von der Heide\, CEO of Volucap\, will deliver a keynote focusing on the “Perspective of the Avatar in the Future”\, including the current status and future outlook of the digital afterlife\, and the role volumetric capture plays in it. \n\n\n\n\n\n\n\n\n\n\n\n\n  \nDate: 13.03.2024 \nPlace: Design Offices München\, Brienner Str. 45 a-d\, 80333 München \nTime: 09:00-20:00 (GMT+1) \n  \nRegister here  \n  \nFor meetings contact: mail@volucap.de
URL:https://volucap.com/event/muenchner-kreis-digial-twin-human-das/
LOCATION:Design Offices München\, Brienner Str. 45 a-d\, München\, 80333
CATEGORIES:Conference,Talk
ATTACH;FMTTYPE=image/jpeg:https://volucap.com/wp-content/uploads/2024/02/muenchner-kreis.jpg
END:VEVENT
BEGIN:VEVENT
DTSTART;TZID=Europe/Paris:20240319T100000
DTEND;TZID=Europe/Paris:20240319T161500
DTSTAMP:20260419T175459
CREATED:20240313T100137Z
LAST-MODIFIED:20240604T121438Z
UID:19134-1710842400-1710864900@volucap.com
SUMMARY:Scientific Conference 2024: Evolving Job Profiles in the Culture and Creative Industries
DESCRIPTION:From Vision to Reality – Germany’s Role in the AI-Driven Media Revolution\nThe culture and creative industries are on the brink of a major transformation\, spurred by the global push towards sustainable and circular economies and the rapid integration of Artificial Intelligence (AI) into various facets of society\, including education. These changes are redefining job roles and creating unprecedented opportunities for innovation and growth. \nAt the forefront of exploring these dynamic shifts is the upcoming Competence Center for Culture and Creative Industries of the Federal Government Scientific Conference\, scheduled for March 19th. The conference promises to delve deep into the evolving landscapes of culture and creativity\, focusing on the transformative impact of AI. \nA highlight of the event is the impulse by Sven Bliedung von der Heide\, CEO of Volucap\, titled \n“From Vision to Reality – Germany’s Role in the AI-Driven Media Revolution”. \nThis presentation will shed light on the pivotal role AI plays within the creative industry and introduce the groundbreaking tools that are shaping the future of media and content creation. Sven’s insights are expected to illuminate the pathways through which AI can enhance creativity\, streamline production processes\, and foster a more integrated approach to content generation. \nThe conference agenda is loaded with engaging keynotes\, interactive panel discussions\, hands-on workshops\, and numerous networking opportunities. These sessions are designed to spark dialogue\, encourage collaboration\, and facilitate the exchange of ideas among professionals\, scholars\, and enthusiasts from across the culture and creative sectors. \nParticipants are invited to register for this enlightening event at no cost by visiting the official website: Register here. \n  \nDon’t miss this opportunity to engage with leading thinkers and innovators at the intersection of culture\, creativity\, and technology! \n  \nFor meetings contact: mail@volucap.de
URL:https://volucap.com/event/ai-creative-industries-conference-2024/
LOCATION:Ahoy! Berlin\, Wattstraße 11\, Berlin\, 13355
CATEGORIES:Conference,Panel,Talk
ATTACH;FMTTYPE=image/jpeg:https://volucap.com/wp-content/uploads/2024/03/Berufsbilder_im_Wandel_Finalberufsbilder_im_wandel_people_final-2.jpg
END:VEVENT
END:VCALENDAR