BEGIN:VCALENDAR
VERSION:2.0
PRODID:-//Volucap - ECPv6.15.20//NONSGML v1.0//EN
CALSCALE:GREGORIAN
METHOD:PUBLISH
X-WR-CALNAME:Volucap
X-ORIGINAL-URL:https://volucap.com
X-WR-CALDESC:Events for Volucap
REFRESH-INTERVAL;VALUE=DURATION:PT1H
X-Robots-Tag:noindex
X-PUBLISHED-TTL:PT1H
BEGIN:VTIMEZONE
TZID:Europe/Berlin
BEGIN:DAYLIGHT
TZOFFSETFROM:+0100
TZOFFSETTO:+0200
TZNAME:CEST
DTSTART:20230326T010000
END:DAYLIGHT
BEGIN:STANDARD
TZOFFSETFROM:+0200
TZOFFSETTO:+0100
TZNAME:CET
DTSTART:20231029T010000
END:STANDARD
BEGIN:DAYLIGHT
TZOFFSETFROM:+0100
TZOFFSETTO:+0200
TZNAME:CEST
DTSTART:20240331T010000
END:DAYLIGHT
BEGIN:STANDARD
TZOFFSETFROM:+0200
TZOFFSETTO:+0100
TZNAME:CET
DTSTART:20241027T010000
END:STANDARD
BEGIN:DAYLIGHT
TZOFFSETFROM:+0100
TZOFFSETTO:+0200
TZNAME:CEST
DTSTART:20250330T010000
END:DAYLIGHT
BEGIN:STANDARD
TZOFFSETFROM:+0200
TZOFFSETTO:+0100
TZNAME:CET
DTSTART:20251026T010000
END:STANDARD
END:VTIMEZONE
BEGIN:VEVENT
DTSTART;TZID=Europe/Berlin:20240607T100000
DTEND;TZID=Europe/Berlin:20240607T180000
DTSTAMP:20260419T130731
CREATED:20240327T143958Z
LAST-MODIFIED:20240604T115147Z
UID:19451-1717754400-1717783200@volucap.com
SUMMARY:media.think.tank 2024
DESCRIPTION:AI in the Audiovisual Production Workflow – Creative Collaboration from Script to Distribution\nThis event is designed to explore AI’s potential to revolutionize film production\, marketing\, and consumption. With a focus on bridging the gap between science\, research\, and industry\, the conference will share knowledge\, strengthen networks\, and foster collaboration across disciplines. Attendees will gain practical insights into AI’s application in production processes and discover innovative tools that are changing the landscape of filmmaking. \nOur CEO Sven Bliedung von der Heide leveraging his vast experience at Volucap\, will provide valuable perspectives on the fast-evolving AI tools and their implications for the industry. \nThis conference is an exceptional opportunity to engage with experts\, clarify questions\, and envision the future of films powered by AI. Don’t miss the chance to be part of this interdisciplinary discussion on AI’s role in shaping the next generation of cinematic experiences. \n  \nFor meetings contact: mail@volucap.de
URL:https://volucap.com/event/media-think-tank-2024/
LOCATION:Film University – Babelsberg\, Marlene-Dietrich-Allee 11\, Potsdam\, Brandenburg\, 14482\, Germany
CATEGORIES:Conference,Panel,Talk
ATTACH;FMTTYPE=image/png:https://volucap.com/wp-content/uploads/2024/06/2024-06-03-11.54.09.png
END:VEVENT
BEGIN:VEVENT
DTSTART;TZID=Europe/Berlin:20240611T090000
DTEND;TZID=Europe/Berlin:20240611T200000
DTSTAMP:20260419T130731
CREATED:20240606T134755Z
LAST-MODIFIED:20240606T134755Z
UID:20295-1718096400-1718136000@volucap.com
SUMMARY:11th FOKUS Media Web Symposium
DESCRIPTION:Join Us at the 11th FOKUS Media Web Symposium: Exploring 5G Requirements for Volumetric Videos\nThe 11th FOKUS Media Web Symposium (#FOKUSMWS) will take place on June 11-12\, 2024\, gathering over 200 participants from around the world to discuss Internet-based media delivery. \nWe are thrilled to announce that our CEO\, Sven Bliedung von der Heide\, will join a session on June 11th to present the critical requirements of 5G networks for volumetric videos. Sven will explore how 5G technology revolutionizes the creation and delivery of high-quality\, immersive volumetric content. He will discuss the technical demands\, the potential for enhanced media experiences\, and how 5G infrastructure supports seamless streaming of volumetric videos\, which are essential for virtual reality (VR)\, augmented reality (AR)\, and mixed reality (MR) applications. \nDon’t miss this opportunity to gain valuable insights into the future of media delivery. \n  \nRegister for the event for free at the following link: Register here. \nFor the full program\, visit: Detailed Program. \n  \nFor meetings contact: mail@volucap.de
URL:https://volucap.com/event/fokus-media-web-symposium-2024/
LOCATION:Fraunhofer FOKUS\, Kaiserin-Augusta-Allee 31\, Berlin\, 10589\, Germany
CATEGORIES:Conference,Workshop
ATTACH;FMTTYPE=image/jpeg:https://volucap.com/wp-content/uploads/2024/06/fokusmw.jpeg
END:VEVENT
BEGIN:VEVENT
DTSTART;TZID=Europe/Berlin:20240612T170000
DTEND;TZID=Europe/Berlin:20240612T183000
DTSTAMP:20260419T130731
CREATED:20240611T123331Z
LAST-MODIFIED:20240627T142046Z
UID:20382-1718211600-1718217000@volucap.com
SUMMARY:Webinar: “Talk & Connect: Opportunities and Limitations of AI for the Film Industry”
DESCRIPTION:Talk & Connect: Opportunities and Limitations of AI for the Film Industry\nThis webinar aims to provide an initial insight into AI-relevant topics for various professional groups in the film and television industry. It seeks to not only discuss the pros and cons but also to actively shape and reframe the debate. \nParticipation:\nAll interested parties are warmly invited to join via Zoom. Participation is free of charge.Zoom Link: https://us02web.zoom.us/j/81734706348?pwd=NtMizZmzo4XyCix8a4qqrw05UA0Smy.1Meeting ID: 896 8622 3257 | Passcode: 560326 \nFeel free to send your questions in advance to info@casting-network.de. \nNote:\nThis meeting will be recorded. By continuing to participate in this meeting\, you agree to the recording of the meeting.
URL:https://volucap.com/event/ai-film-television-webinar-opportunities-limitations/
LOCATION:Baden-Württemberg
CATEGORIES:Webinar
ATTACH;FMTTYPE=image/jpeg:https://volucap.com/wp-content/uploads/2024/06/talk-and-connect.jpg
END:VEVENT
BEGIN:VEVENT
DTSTART;TZID=Europe/Berlin:20240626T100000
DTEND;TZID=Europe/Berlin:20240627T180000
DTSTAMP:20260419T130731
CREATED:20240606T143246Z
LAST-MODIFIED:20240611T121234Z
UID:20306-1719396000-1719511200@volucap.com
SUMMARY:5G Day BB & AI Day Brandenburg
DESCRIPTION:Volucap at the 5G Day BB and AI Day Brandenburg\nWe invite you to join us at the 5G Day BB on June 26 and the AI Day on June 27 in Frankfurt (Oder). These events offer a unique platform for exchanging knowledge\, ideas\, and innovations in the fields of 5G applications and ecosystems\, as well as artificial intelligence (AI). The events are aimed at professionals from business\, administration\, research\, and politics who are interested in the latest developments and applications in AI and 5G. \nVolucap is excited to be part of these events. On June 26\, our CEO\, Sven Bliedung von der Heide\, will give a talk on “5G vs 4G Volumetric Data”. This presentation will examine the differences between 4G and 5G in volumetric video transmission. It will showcase how 5G enables high-resolution streaming into the Metaverse\, offering significant advantages over 4G. Detailed studies have shown that 5G allows for a 20-fold increase in detail and texture resolution. Thanks to innovative network slicing technology\, multiple volumetric streams can be streamed in parallel. Discover how 5G lays the foundation for the Metaverse and revolutionizes the future of volumetric data transmission. \nOn June 27\, Sven will delve deeper into the topic “AI and Volumetric Data”. He will showcase how Volucap uses AI to achieve high-resolution volumetric data and how this data can be used for AI training\, such as training robots for surgery. He will also demonstrate how Volucap’s volumetric capture technology has been used in Hollywood film productions and to create cinema-quality deepfakes. \nWe look forward to your participation and an inspiring exchange! \nRegister here. \n  \nFor meetings contact: mail@volucap.de
URL:https://volucap.com/event/5g-ai-volumetric-data-conference-2024/
LOCATION:Kleistforum\, Platz der Einheit 1\, Frankfurt (Oder)\, 15230\, Germany
CATEGORIES:Conference,Talk
ATTACH;FMTTYPE=image/png:https://volucap.com/wp-content/uploads/2024/06/5g-tag-BB_ki-Tag-Brandenburg.png
END:VEVENT
END:VCALENDAR